BEGIN:VCALENDAR
PRODID:NingEventWidget-v1
VERSION:2.0
METHOD:PUBLISH
BEGIN:VEVENT
UID:2508951:Event:12586
DTSTAMP:20260425T203257Z
SUMMARY:VINYL HEADLIGHTS @ CATCH 31
DESCRIPTION:HILTON\n\nFor more information visit https://vbnightlife.c
 om/events/vinyl-headlights-catch-31
DTSTART:20090511T210000Z
DTEND:20090512T020000Z
CATEGORIES:band
LOCATION:Catch 31 - The Hilton
WEBSITE:
URL:
CONTACT:
ORGANIZER;CN="Nicole Maxino":https://vbnightlife.com/profile/NicoleMax
 ino
ATTACH;FMTTYPE="image/jpeg":http://storage.ning.com/topology/rest/1.0/
 file/get/1664074324?profile=original
ATTENDEE;ROLE=REQ-PARTICIPANT;PARTSTAT=ACCEPTED;RSVP=TRUE;CN="Nicole M
 axino":https://vbnightlife.com/profile/NicoleMaxino
END:VEVENT
END:VCALENDAR
