BEGIN:VCALENDAR
PRODID:NingEventWidget-v1
VERSION:2.0
METHOD:PUBLISH
BEGIN:VEVENT
UID:2508951:Event:17543
DTSTAMP:20260425T203501Z
SUMMARY:VINYL HEADLIGHTS @ 7TH STREET STAGE
DESCRIPTION:Vinyl Headlights' three members believe that quality music
 ianship, a high energy performance and crowd interaction are the keys 
 to a great live experience. Featuring members from 2 national recordin
 g acts, Vinyl Headlights brings a wealth of skill and professionalism 
 to every show. The band specializes in a variety of popular Modern Roc
 k, 80's hits, and 70's dance/rock that caters to any night club, colle
 ge or special event. With positive reviews across the board, Vinyl Hea
 dlights is a band guaranteed to please.\n\nFor more information visit 
 https://vbnightlife.com/events/vinyl-headlights-7th-street-1
DTSTART:20090721T220000Z
DTEND:20090722T020000Z
CATEGORIES:band
LOCATION:7th Street Stage
WEBSITE:
URL:
CONTACT:
ORGANIZER;CN="VBnightlife.com":https://vbnightlife.com/profile/admin
ATTACH;FMTTYPE="image/jpeg":http://storage.ning.com/topology/rest/1.0/
 file/get/1664081842?profile=original
ATTENDEE;ROLE=REQ-PARTICIPANT;PARTSTAT=ACCEPTED;RSVP=TRUE;CN="VBnightl
 ife.com":https://vbnightlife.com/profile/admin
END:VEVENT
END:VCALENDAR
