BEGIN:VCALENDAR
PRODID:NingEventWidget-v1
VERSION:2.0
METHOD:PUBLISH
BEGIN:VEVENT
UID:2508951:Event:189043
DTSTAMP:20260422T150358Z
SUMMARY:VEER LOCAL MUSIC AWARDS
DESCRIPTION:Veer Magazine's Local Music AwardsWednesday, February 15Na
 ro Expanded Cinema7 PM\nOPENING AND CLOSING BY BJ LEIDERMAN\nTickets a
 re $5 which goes to Hope House Foundation. Limited tickets are availab
 le and only at the Naro. For more info call Jess Maisey. 757-237-2762 
 (mobile), 757-962-7959(land), or jeffmaisey@yahoo.com\n\nFor more info
 rmation visit https://vbnightlife.com/events/veer-local-music-awards
DTSTART:20120216T000000Z
DTEND:20120216T030000Z
CATEGORIES:bands, awards
LOCATION:NARO EXPANDED CINEMA
WEBSITE:
URL:
CONTACT:
ORGANIZER:VEER MAGAZING
ATTACH;FMTTYPE="image/jpeg":http://storage.ning.com/topology/rest/1.0/
 file/get/1664160170?profile=original
ATTENDEE;ROLE=REQ-PARTICIPANT;PARTSTAT=ACCEPTED;RSVP=TRUE;CN="Rolan St
 ears":https://vbnightlife.com/profile/RolanStears
ATTENDEE;ROLE=REQ-PARTICIPANT;PARTSTAT=ACCEPTED;RSVP=TRUE;CN="VBnightl
 ife.com":https://vbnightlife.com/profile/admin
END:VEVENT
END:VCALENDAR
