BEGIN:VCALENDAR
PRODID:NingEventWidget-v1
VERSION:2.0
METHOD:PUBLISH
BEGIN:VEVENT
UID:2508951:Event:29183
DTSTAMP:20260425T100759Z
SUMMARY:VEDETTE @ LUNASEA
DESCRIPTION:Come check out Vedette at Lunasea this Thursday the 28th~1
 0pm! New songs and kick ass grooves..so put on your dancing shoes and 
 come party with us!!\n\nFor more information visit https://vbnightlife
 .com/events/vedette-lunasea-1
DTSTART:20100128T050000Z
DTEND:20100129T045900Z
CATEGORIES:band
LOCATION:VIRGINIA BEACH
WEBSITE:
URL:
CONTACT:
ORGANIZER;CN="VBnightlife.com":https://vbnightlife.com/profile/admin
ATTACH;FMTTYPE="image/jpeg":http://storage.ning.com/topology/rest/1.0/
 file/get/1664098670?profile=original
ATTENDEE;ROLE=REQ-PARTICIPANT;PARTSTAT=ACCEPTED;RSVP=TRUE;CN="VBnightl
 ife.com":https://vbnightlife.com/profile/admin
END:VEVENT
END:VCALENDAR
