BEGIN:VCALENDAR
PRODID:NingEventWidget-v1
VERSION:2.0
METHOD:PUBLISH
BEGIN:VEVENT
UID:2508951:Event:29992
DTSTAMP:20260422T044138Z
SUMMARY:VBnightlife.com PARTY BUS!!!!!!!!!!
DESCRIPTION:Join us on the 1st Ever VBnightlife Party Bus as we cruise
  around to the beach bars in style! The ALL NEW \"Party Bus\" features
  a Large 42\" Direct TV and seats 20. RSVP soon..This will fill up fas
 t... (only 10 seats left) ..$45 per person or $75 for 2.\nTo reserve y
 our seat call Scott 757-406-3426 or Nicole 757-652-0808\n\n8:30 TO 2:0
 0\n\nFor more information visit https://vbnightlife.com/events/vbnight
 lifecom-party-bus
DTSTART:20100208T050000Z
DTEND:20100209T045900Z
CATEGORIES:party, bus
LOCATION:VIRGINIA BEACH
WEBSITE:
URL:
CONTACT:
ORGANIZER;CN="VBnightlife.com":https://vbnightlife.com/profile/admin
ATTACH;FMTTYPE="image/jpeg":http://storage.ning.com/topology/rest/1.0/
 file/get/1664098378?profile=original
ATTENDEE;ROLE=REQ-PARTICIPANT;PARTSTAT=ACCEPTED;RSVP=TRUE;CN="VBnightl
 ife.com":https://vbnightlife.com/profile/admin
END:VEVENT
END:VCALENDAR
