BEGIN:VCALENDAR
PRODID:NingEventWidget-v1
VERSION:2.0
METHOD:PUBLISH
BEGIN:VEVENT
UID:2508951:Event:114566
DTSTAMP:20260421T084453Z
SUMMARY:VBNIGHTLIFE PARTY WITH NATURE'S CHILD AT 11TH STREET TAPHOUSE!
 !!
DESCRIPTION:We are excited to announce that NATURE'S CHILD will be pla
 ying tonight at 11th Street Taphouse!  What a beautiful night to the 
 sounds of Virginia Beach's very own Reggae Ambassadors! \n \nMembers
 :\nGeorge Fedee: lead vocals/percussion Delores Buck (Dee): vocals/key
 board David Cuffee (Young Lion): guitar/percussion/vocals Joe Beck: sa
 xophone/flute/vocals Patrick Spalding: bass Johnnie Smith: drums\nInfl
 uences:\n\nBob Marley\nSteel Pulse\nPeter Tosh\nDawn Penn\nDamian Marl
 ey\nBeres Hammond\n\n\nSounds Like:\n\nBob Marley\nSteel Pulse\nBurnin
 g Spear\nBeres Hammond\nNature's Child\n\n\n\nFor more information vis
 it https://vbnightlife.com/events/vbnightlife-party-with-natures
DTSTART:20110430T013000Z
DTEND:20110430T060000Z
CATEGORIES:band, "/", vbnightlife, party
LOCATION:11TH STREET TAPHOUSE
WEBSITE:
URL:
CONTACT:
ORGANIZER;CN="VBnightlife.com":https://vbnightlife.com/profile/admin
ATTACH;FMTTYPE="image/jpeg":http://storage.ning.com/topology/rest/1.0/
 file/get/1664139602?profile=original
ATTENDEE;ROLE=REQ-PARTICIPANT;PARTSTAT=ACCEPTED;RSVP=TRUE;CN="Rolan St
 ears":https://vbnightlife.com/profile/RolanStears
ATTENDEE;ROLE=REQ-PARTICIPANT;PARTSTAT=ACCEPTED;RSVP=TRUE;CN="Diamond 
 S.":https://vbnightlife.com/profile/DiamondS
ATTENDEE;ROLE=REQ-PARTICIPANT;PARTSTAT=ACCEPTED;RSVP=TRUE;CN="VBnightl
 ife.com":https://vbnightlife.com/profile/admin
END:VEVENT
END:VCALENDAR
