BEGIN:VCALENDAR
PRODID:NingEventWidget-v1
VERSION:2.0
METHOD:PUBLISH
BEGIN:VEVENT
UID:2508951:Event:137859
DTSTAMP:20260424T012307Z
SUMMARY:VBNightlife Party @ 11th St. Taphouse w/ BROKE BY SUNDAY!
DESCRIPTION:As always, VBNightlife has you covered for Friday night! T
 his week's live music is courtesy of Broke By Sunday! Come on in and c
 hill with the VBNightlife crew and the awesome staff at Taphouse!\n \
 n \nVery few groups can boast two strong lead vocalists, with two com
 plimentary musical styles, as well as a propulsive bass and guitar sec
 tion, and high energy percussion with precision control, but that’s 
 exactly what you get with Broke By Sunday. With a rare combination of 
 both youth and experience, Broke By Sunday is a four piece band that l
 ives to bring the party with them wherever they go! An infectious live
  show, with a selection of songs that everyone knows and loves, sets t
 he band apart from your average musical group.  All four members of Br
 oke By Sunday bring different experiences to the table. Vocalist Matt 
 Davis brings a wealth of experience, having been in Johnson’s Rising
  and Parallel Minds previously, and having performed countless shows i
 n the past seven years. Vocalist/Guitarist Jason Swain was previously 
 the frontman for Jason Swain and Atlantic Crossing, and has performed 
 in hundreds of different venues, and alongside many nationally known a
 rtists. Harley Barker on bass is a seasoned performer, having been a m
 ajor part of The Delivery, among many other bands. Finally, percussion
 ist Jason Fanny is a renowned musician, having performed onstage with 
 various national acts.  While the band was formed in late 2009, most o
 f the musicians in the group have been performing together for many ye
 ars, and all four men blend the talents they have to create a fresh an
 d exciting musical act!  Broke By Sunday is known for a high energy st
 age performance, as well as the ability to interact with crowds both y
 oung and old, at venues and settings all the way from a wedding to an 
 outdoor festival or a nightclub. The genres covered at a Broke By Sund
 ay show are limitless, with all the most recognized songs from modern 
 rock, dance, 80s, top 40, country, classic rock, 70s, rap and hip hop,
  soul, and more.  As individuals, the members of Broke By Sunday have 
 shared the stage with artists that include a wide range of genres, suc
 h as the Hinder, Rascal Flatts, Papa Roach, Billy Currington, the Gin 
 Blossoms, Clarence Carter, Gary Allan, and Phil Vassar, among many oth
 ers. They’ve also performed at countless numbers of festivals, venue
 s, nightclubs, and concert halls.  Broke By Sunday is a professional, 
 skilled, and versatile band of seasoned performers, ready and able to 
 play any venue or event, from smaller parties to large concerts and an
 ything in between. The band always puts on a high-energy show, and mai
 ntains a sense of professionalism, always going above and beyond to en
 tertain the crowd! \n\nFor more information visit https://vbnightlife.
 com/events/vbnightlife-party-11th-st-79
DTSTART:20110716T013000Z
DTEND:20110716T034500Z
CATEGORIES:"virginia beach events", "virginia beach entertainment", "v
 irginia beach music", "ladies night", "virginia beach bands"
LOCATION:11th St. Taphouse
WEBSITE:
URL:
CONTACT:
ORGANIZER;CN="VBnightlife.com":https://vbnightlife.com/profile/admin
ATTACH;FMTTYPE="image/jpeg":http://storage.ning.com/topology/rest/1.0/
 file/get/1664143720?profile=original
ATTENDEE;ROLE=REQ-PARTICIPANT;PARTSTAT=ACCEPTED;RSVP=TRUE;CN="VBnightl
 ife.com":https://vbnightlife.com/profile/admin
END:VEVENT
END:VCALENDAR
