BEGIN:VCALENDAR
PRODID:NingEventWidget-v1
VERSION:2.0
METHOD:PUBLISH
BEGIN:VEVENT
UID:2508951:Event:137760
DTSTAMP:20260423T194256Z
SUMMARY:VBNightlife Party @ 11th St. Taphouse w/ NATURE'S CHILD!
DESCRIPTION:9:30PM-2AM\n \nAs always, VBNightlife has you covered for
  Friday night! This week's live music is courtesy of Broke By Sunday! 
 Come on in and chill with the VBNightlife crew and the awesome staff a
 t Taphouse!\n \n$5 Martinis for the ladies and BOGO Half-A-Tizers all
  night long!! ... Did I mention there are 32 different beers on tap?\n
  \nABOUT NATURE'S CHILD:\nNature's Child is one of the hottest reggae
  sensations on the east coast. Based in Virginia Beach, Va. this band 
 is multi-cultural, multi-racial, multi-talented in rock, jazz, latin, 
 blues, funk and of course reggae. The band is comprised of George (Jor
 ge) from St. Lucia, W.I. on lead vocal and percussion, Delores (Dee) f
 rom Ahoskie, N.C. on vocals/keyboard, Joe (Wisdom) from Greenville, S.
 C. on saxophone, flute, and vocals, Johnnie (Jay) from Virginia Beach,
  Va. on drums, Patrick (Pat) from Virginia Beach on bass, and David (Y
 oung Lion) from Germany on guitar, percussion, and vocals. Their CD \"
 THE FIRST SUPPER\" has gotten rave reviews from all who have heard it.
 The energy that they bring to the state is contagious and highly explo
 sive. We recommend you check this group out! The band has been up and 
 down the east coast, opening for the likes of Steel Pulse, Burning Spe
 ar, Third World and many of reggae's top artists. (E.G. Damien Marley)
 .\n\nFor more information visit https://vbnightlife.com/events/vbnight
 life-party-11th-st-402
DTSTART:20110820T013000Z
DTEND:20110820T034500Z
CATEGORIES:"virginia beach events", "virginia beach entertainment", "v
 irginia beach music", "ladies night", "virginia beach bands"
LOCATION:11th St. Taphouse
WEBSITE:
URL:
CONTACT:
ORGANIZER;CN="VBnightlife.com":https://vbnightlife.com/profile/admin
ATTACH;FMTTYPE="image/jpeg":http://storage.ning.com/topology/rest/1.0/
 file/get/1664142893?profile=original
ATTENDEE;ROLE=REQ-PARTICIPANT;PARTSTAT=ACCEPTED;RSVP=TRUE;CN="VBnightl
 ife.com":https://vbnightlife.com/profile/admin
END:VEVENT
END:VCALENDAR
