BEGIN:VCALENDAR
PRODID:NingEventWidget-v1
VERSION:2.0
METHOD:PUBLISH
BEGIN:VEVENT
UID:2508951:Event:187345
DTSTAMP:20260423T100130Z
SUMMARY:VBNIGHTLIFE NIGHT WITH JACK BECKER AT BONESHAKERS
DESCRIPTION:Come out  and enjoy VBnightlife night and Jack Becker fr
 om 8 to 11. \nCarolina Cupcakery will be giving away FREE Spiked Cupca
 kes to the first 30 people in after 8pm! \n \nIt's also PRIME RIB NI
 GHT $1.50/oz, 8 oz. minimum, served with sauteed veggies and your cho
 ice of a fully loaded baked potato or mashers. Chef starts cutting at 
 5:00pm! \n \n \n\nFor more information visit https://vbnightlife.co
 m/events/vbnightlife-night-with-jack-becker-at-boneshakers
DTSTART:20120224T010000Z
DTEND:20120224T040000Z
CATEGORIES:band
LOCATION:Boneshakers Sportsbar and Grill
WEBSITE:
URL:
CONTACT:
ORGANIZER;CN="VBnightlife.com":https://vbnightlife.com/profile/admin
ATTACH;FMTTYPE="image/jpeg":http://storage.ning.com/topology/rest/1.0/
 file/get/1664161802?profile=original
ATTENDEE;ROLE=REQ-PARTICIPANT;PARTSTAT=ACCEPTED;RSVP=TRUE;CN="Kevin pu
 tman":https://vbnightlife.com/profile/Kevinputman
ATTENDEE;ROLE=REQ-PARTICIPANT;PARTSTAT=ACCEPTED;RSVP=TRUE;CN="VBnightl
 ife.com":https://vbnightlife.com/profile/admin
END:VEVENT
END:VCALENDAR
