BEGIN:VCALENDAR
PRODID:NingEventWidget-v1
VERSION:2.0
METHOD:PUBLISH
BEGIN:VEVENT
UID:2508951:Event:314277
DTSTAMP:20260422T164547Z
SUMMARY:VBNIGHTLIFE White Party at The Pearl Club Happy Hour - Featuri
 ng Bryan Dunn & DJ 401k From Hot 100.5
DESCRIPTION: \n\n Bryan Dunn playing from 5:30 to 8:30\nthen DJ 401k 
 from 8:30 to close.  Come early and stay late!\n  The Pearl Club - 32
 4 N. Great Neck Rd- Live Music 5:30pm to 1:30am    - (757) 340-0004
 \n\nThe Pearl Club is a new Live Music Venue with Upscale Bar and Late
  Night DJ Experience\n\nOFFERING FRIENDLY, ATTENTIVE SERVICE AND SUMPT
 UOUS SEASONAL COASTAL CUISINE, NEW AMERICAN STYLE AND EVER CHANGING S
 EASONAL SELECTIONS. \n \nJoin us for Happy Hour with Buy One Get One
  1/2 off Tapas and drink specials on Beer, Wine, Mixed Drinks and Mart
 inis.\n$4 Import Beer $3 Domestic & Local Beer $5 Wine $3 Well Drinks 
 $5 Select Martini $4 Fireball\n\nBe a Pearl Club VIP!  The first 100
  to stop by Friday will receive a FREE VIP card courtesy of VBnightli
 fe.com! Membership perks include 10% off your bill every night, VIP en
 try and no cover for special events.\n\n\n\n\nFor more information vis
 it https://vbnightlife.com/events/vbnightlife-night-at-the-pearl-club-
 after-work-party-featuring-br
DTSTART:20150904T213000Z
DTEND:20150905T003000Z
CATEGORIES:"happy hour virginia beach", "live music virginia beach", "
 the pearl club virginia beach"
LOCATION:The Pearl Club
WEBSITE:http://324 N. Great Neck Road
URL:http://324 N. Great Neck Road
CONTACT:(757) 340-0004
ORGANIZER:The Pearl Club / VBnightlife
ATTACH;FMTTYPE="image/jpeg":http://storage.ning.com/topology/rest/1.0/
 file/get/1664286272?profile=original
ATTENDEE;ROLE=REQ-PARTICIPANT;PARTSTAT=ACCEPTED;RSVP=TRUE;CN="VBnightl
 ife.com":https://vbnightlife.com/profile/admin
END:VEVENT
END:VCALENDAR
