BEGIN:VCALENDAR
PRODID:NingEventWidget-v1
VERSION:2.0
METHOD:PUBLISH
BEGIN:VEVENT
UID:2508951:Event:312767
DTSTAMP:20260425T064009Z
SUMMARY:LEARN TO SHOOT **TONIGHT** AT VBNIGHTLIFE NIGHT AT COLONIAL SH
 OOTING ACADEMY
DESCRIPTION:Join us for atÂ Colonial Shooting AcademyÂ  Wednesday Augu
 st 12th Â and experience a different kind of nightlife! We can accommo
 date 18 people in 9 lanes AND 6 SPOTS REMAIN!\n\nMany have asked.... Y
 ou do NOT have to have 2 people to attend. Many people come alone and 
 join the group for a fun and educational evening.Â \n\nYou will have a
 n hour to shoot with 2 range officers to help you with everything from
  learning how to hold the gun to improving your shot.\n\n$29 price inc
 ludes an hour of shooting, a handgun, targets, eyes and ears for safet
 y. Â Ammunition is extra. The price of a box of ammunition start at $7
 .50 and depend on what kind of gun you select.\n\n$29 per person is an
  awesome deal!Â If you went on your own, this would cost $65 for the h
 our to rent a lane and all of the equipment.Â This special discounted 
 rate is just for us - one night a month! Â Next event is September 9th
 !\n\nUse this link to see a description of the guns and to reserve you
 r spot:Â http://mkt.com/vblife/colonial-shooting-academy-night\n\nThe 
 range officers will make sure you understand how the gun works, make s
 ure you feel comfortable handling it and even assist you if need be in
 side the range. Safety is their Â number one priority. If anyone from 
 beginner shooter to an advanced shooter needs help they are there!\n\n
 Choose from the following guns:\nBeginnerÂ (22 Cal)\nIntermediateÂ (9m
 m)\nAdvanced (45mm)\nÂ \nPre-payment is required. Only 18 spots availa
 ble!\nlhttp://mkt.com/vblife/colonial-shooting-academy-night\nWhen you
  register you will have an opportunity to select your gun and pre-pay 
 your ammunition. We STRONGLY suggest you make your gun selection and p
 ay for your ammo in advance. This will save you time when you arrive a
 nd ensure that you have a full hour on the range and ensure the gun yo
 u are interested in shooting\n\nOur range time begins at 6 and instruc
 tion and short video begin promptly at 5:30. Suggested arrival time is
  5:15.. no later than 5:30 or you risk not taking advantage of the ful
 l hour range time.\n\nIf you have any questions about this event pleas
 e call Nicole at 757 652 0808 or emailÂ nicole@coastalvirginiamarketin
 g.com\nÂ \nNo one pregnant or nursing will be permitted in the range\n
 Valid drivers license is required. Must be 21+ to participate\n(Photos
  of Rock Girl Jordan by Mallory Hot Mess Photography for FM99)\n\nÂ  Â
  \n\nFor more information visit https://vbnightlife.com/events/vbnight
 life-night-at-colonial-shooting-academy-6
DTSTART:20150812T213000Z
DTEND:20150812T230000Z
CATEGORIES:"colonial shooting academy", "events in virginia beach", "t
 hings to do in virginia beach"
LOCATION:Colonial Shooting Academy
WEBSITE:
URL:
CONTACT:757 652 0808
ORGANIZER;CN="VBnightlife.com":https://vbnightlife.com/profile/admin
ATTACH;FMTTYPE="image/jpeg":http://storage.ning.com/topology/rest/1.0/
 file/get/1664251835?profile=original
ATTENDEE;ROLE=REQ-PARTICIPANT;PARTSTAT=ACCEPTED;RSVP=TRUE;CN="VBnightl
 ife.com":https://vbnightlife.com/profile/admin
END:VEVENT
END:VCALENDAR
