BEGIN:VCALENDAR
PRODID:NingEventWidget-v1
VERSION:2.0
METHOD:PUBLISH
BEGIN:VEVENT
UID:2508951:Event:336181
DTSTAMP:20260424T095544Z
SUMMARY:VBdaylife / VBnightlife Column in the Virginian Pilot Beacon a
 nd Pilot Online
DESCRIPTION:http://pilotonline.com/vbdaylife-vbnighlife-april-fundrais
 ers---have-fun-and-help/article_2eb99f4e-db2f-51d3-9663-b57d9d9603c2.h
 tml\n\n\n\nFor more information visit https://vbnightlife.com/events/v
 bdaylife-vbnightlife-column-in-the-virginian-pilot-beacon-and
DTSTART:20160407T040000Z
DTEND:20160408T035900Z
CATEGORIES:"vbnightlife column", "vbnightlife beacon", "vbnightlife vi
 rginian pilot"
LOCATION:Virginia Beach, VA
WEBSITE:
URL:
CONTACT:
ORGANIZER:VBnightlife.com / vbdaylife
ATTACH;FMTTYPE="image/jpeg":http://storage.ning.com/topology/rest/1.0/
 file/get/1664308057?profile=original
ATTENDEE;ROLE=REQ-PARTICIPANT;PARTSTAT=ACCEPTED;RSVP=TRUE;CN="VBnightl
 ife.com":https://vbnightlife.com/profile/admin
END:VEVENT
END:VCALENDAR
