BEGIN:VCALENDAR
PRODID:NingEventWidget-v1
VERSION:2.0
METHOD:PUBLISH
BEGIN:VEVENT
UID:2508951:Event:200962
DTSTAMP:20260420T023851Z
SUMMARY:VBCCO PARTY IN THE PARK - FREE FAMILY EVENT
DESCRIPTION:Shelter numbers are now #2 and #3. Attendees should regist
 er (it's free) by going to: http://www.vbcco.eventbrite.com\n\n\nFor m
 ore information visit https://vbnightlife.com/events/vbcco-party-in-th
 e-park-free-family-event
DTSTART:20120719T223000Z
DTEND:20120720T003000Z
CATEGORIES:"family fun"
LOCATION:MT. TRASHMORE PARK, SHELTER #2 and #3
WEBSITE:
URL:
CONTACT:
ORGANIZER:VBnightlife.com / VBdaylife.com
ATTACH;FMTTYPE="image/jpeg":http://storage.ning.com/topology/rest/1.0/
 file/get/1664176953?profile=original
ATTENDEE;ROLE=REQ-PARTICIPANT;PARTSTAT=ACCEPTED;RSVP=TRUE;CN="VBnightl
 ife.com":https://vbnightlife.com/profile/admin
END:VEVENT
END:VCALENDAR
