BEGIN:VCALENDAR
PRODID:NingEventWidget-v1
VERSION:2.0
METHOD:PUBLISH
BEGIN:VEVENT
UID:2508951:Event:14373
DTSTAMP:20260425T215800Z
SUMMARY:VANS WARPED TOUR
DESCRIPTION:ALL AGES\n\n11am\n\nThe VANS WARPED TOUR® is well establi
 shed as America’s longest-running touring festival, breaking up-and-
 coming indie talent as well as showcasing established artists since 19
 95. It has cemented its place in history by playing a major role in br
 inging punk-rock/skate/action sports culture from the underground to t
 he forefront of American youth culture, while at the same time creatin
 g awareness and taking action towards environmental and causes and hel
 ping those in need. The traveling punk rock summer camp features a div
 erse array of artists as well as a variety of lifestyle attractions fo
 r its traditionally low ticket price.\n\nLIST OF BANDS!\n3OH!3\nA Day 
 To Remember\nA Skylit Drive\nAiden\nAlana Grace\nAlexisonfire\nAll Tim
 e Low\nAnti-Flag\nAttack Attack\nBad Religion\nBayside\nBig D and the 
 Kids Table\nBlack Tide\nBouncing Souls\nBreathe Carolina\nbrokeNCYDE\n
 Chiodos\nDance Gavin Dance\nDear And The Headlights\nDirty Heads\nDown
  With Webster\nDr Madd Vibe Experiment\nEscape The Fate\nForever The S
 ickest Kids\nFoundation\nGallows\nHe Is Legend\nHit The Lights\nI Set 
 My Friends On Fire\nice nine kills\nIn This Moment\nInnerPartySystem\n
 Jeffree Star\nJet Lag Gemini\nKelsey And The Chaos\nLess Than Jake\nLI
 GHTS\nLongway\nMadina Lake\nMeg and Dia\nMercy Mercedes\nMiddle Finger
  Salute\nMillionaires\nMonty Are I\nNOFX\nP.O.S.\nPull The Pin\nRoslyn
 \nSaosin\nScary Kids Scaring Kids\nSenses Fail\nSettings\nShad\nShoote
 r Jennings\nSing It Loud\nStreetlight Manifesto\nTAT\nThe A.K.A.s\nThe
  Architects\nThe Devil Wears Prada\nThe Maine\nThe White Tie Affair\nT
 here For Tomorrow\nTherefore I Am\nTV/TV\nUnderoath\nVersaEmerge\nWest
 bound Train\n\nBands subject to change\n\nTransportation Info\nAn Amph
 itheatre Shuttle Service travels between the west side of Atlantic Ave
 nue at the oceanfront area and the\namphitheatre starting approximatel
 y 90 minutes prior to show time.\n\nThe schedule is as follows: An Amp
 hitheatre Shuttle Service travels between the west side of Atlantic Av
 enue at the oceanfront area and the amphitheatre starting approximatel
 y 90 minutes prior to show time.\n\nFor more information visit https:/
 /vbnightlife.com/events/vans-warped-tour
DTSTART:20090722T040000Z
DTEND:20090723T035900Z
CATEGORIES:concert
LOCATION:Verizon Wireless Amphitheater
WEBSITE:
URL:
CONTACT:
ORGANIZER;CN="VBnightlife.com":https://vbnightlife.com/profile/admin
ATTACH;FMTTYPE="image/jpeg":http://storage.ning.com/topology/rest/1.0/
 file/get/1664076539?profile=original
ATTENDEE;ROLE=REQ-PARTICIPANT;PARTSTAT=ACCEPTED;RSVP=TRUE;CN="VBnightl
 ife.com":https://vbnightlife.com/profile/admin
END:VEVENT
END:VCALENDAR
