BEGIN:VCALENDAR
PRODID:NingEventWidget-v1
VERSION:2.0
METHOD:PUBLISH
BEGIN:VEVENT
UID:2508951:Event:186645
DTSTAMP:20260423T112826Z
SUMMARY:VAN HALEN CONCERT TOUR DATES 2012
DESCRIPTION:Van Halen North American Tour - 2012 Concert Dates\n\n2/18
 /12, KFC Yum! Center, Louisville, KY\n2/20/12, The Palace of Auburn Hi
 lls, Detroit, MI\n2/22/12, Bankers Life Fieldhouse, Indianapolis, IN\n
 2/24/12, United Center, Chicago, IL\n2/28/12, Madison Square Garden, N
 ew York, NY\n3/1/12, Madison Square Garden, New York, NY\n3/3/12, Mohe
 gan Sun Arena, Uncasville, CT\n3/5/12, Wells Fargo Center, Philadelphi
 a, PA\n3/9/12, First Niagara Center, Buffalo, NY\n3/11/12, TD Garden, 
 Boston, MA\n3/15/12, Bell Centre, Montreal, QC\n3/17/12, Air Canada Ce
 ntre, Toronto, ON\n3/21/12, Scotiabank Place, Ottawa, ON\n3/24/12, Boa
 rdwalk Hall, Atlantic City, NJ\n3/28/12, Verizon Center, Washington, D
 C\n3/30/12, Consol Energy Center, Pittsburgh, PA\n4/1/12, Allstate Are
 na, Rosemont, IL\n4/10/12, BankAtlantic Center, Fort Lauderdale, FL\n4
 /12/12, St. Pete Times Forum, Tampa, FL\n4/14/12, Amway Arena, Orlando
 , FL\n4/16/12, Jacksonville Arena, Jacksonville, FL\n4/19/12, Philips 
 Arena, Atlanta, GA\n4/21/12, Greensboro Coliseum, Greensboro, NC\n4/25
 /12, Time Warner Cable Arena, Charlotte, NC\n4/27/12, Bridgestone Aren
 a, Nashville, TN\n5/1/12, BOK Center, Tulsa, OK\n5/5/12, Tacoma Dome, 
 Tacoma, WA\n5/7/12, Rogers Arena, Vancouver, BC\n5/9/12, Scotiabank Sa
 ddledome, Calgary, AB\n5/11/12, Rexall Place, Edmonton, AB\n5/17/12, M
 TS Centre, Winnipeg, MB\n5/19/12, Xcel Energy Center, St. Paul, MN\n5/
 22/12, Sprint Center, Kansas City, MO\n5/24/12, Pepsi Center, Denver, 
 CO\n5/27/12, MGM Grand Garden Arena, Las Vegas, NV\n6/1/12, STAPLES Ce
 nter, Los Angeles, CA\n6/3/12, Oracle Arena, Oakland, CA\n6/5/12, HP P
 avilion, San Jose, CA\n6/12/12, Honda Center, Anaheim, CA\n6/14/12, Vi
 ejas Arena, San Diego, CA\n6/16/12, US Airways Center, Phoenix, AZ\n6/
 20/12, American Airlines Center, Dallas, TX\n6/22/12, AT&T Center, San
  Antonio, TX\n6/24/12, Toyota Center, Houston, TX\n6/26/12, New Orlean
 s Arena, New Orleans, LA\n\n\nFor more information visit https://vbnig
 htlife.com/events/van-halen-concert-tour-dates-2012
DTSTART:20120220T050000Z
DTEND:20120221T045900Z
CATEGORIES:concert
LOCATION:US
WEBSITE:
URL:
CONTACT:
ORGANIZER;CN="VBnightlife.com":https://vbnightlife.com/profile/admin
ATTACH;FMTTYPE="image/jpeg":http://storage.ning.com/topology/rest/1.0/
 file/get/1664159747?profile=original
ATTENDEE;ROLE=REQ-PARTICIPANT;PARTSTAT=ACCEPTED;RSVP=TRUE;CN="VBnightl
 ife.com":https://vbnightlife.com/profile/admin
END:VEVENT
END:VCALENDAR
