BEGIN:VCALENDAR
PRODID:NingEventWidget-v1
VERSION:2.0
METHOD:PUBLISH
BEGIN:VEVENT
UID:2508951:Event:212853
DTSTAMP:20260419T213140Z
SUMMARY:Valentines Day at Tempt
DESCRIPTION:\n\n\n\nTempt Restaurant and Lounge\n757.437.8230 500 Pine
 wood Square Serving Lunch at 11:30am  Sunday Brunch 10am to 3pm\n\n\n
 For more information visit https://vbnightlife.com/events/valentines-d
 ay-at-tempt
DTSTART:20130214T050000Z
DTEND:20130215T045900Z
CATEGORIES:"valentines day", tempt, vbnightlife
LOCATION:Tempt Restaurant and Lounge
WEBSITE:
URL:
CONTACT:
ORGANIZER;CN="VBnightlife.com":https://vbnightlife.com/profile/admin
ATTACH;FMTTYPE="image/jpeg":http://storage.ning.com/topology/rest/1.0/
 file/get/1664188797?profile=original
ATTENDEE;ROLE=REQ-PARTICIPANT;PARTSTAT=ACCEPTED;RSVP=TRUE;CN="VBnightl
 ife.com":https://vbnightlife.com/profile/admin
END:VEVENT
END:VCALENDAR
