BEGIN:VCALENDAR
PRODID:NingEventWidget-v1
VERSION:2.0
METHOD:PUBLISH
BEGIN:VEVENT
UID:2508951:Event:310906
DTSTAMP:20260425T000123Z
SUMMARY:VA Mix-Tape Music Fest!
DESCRIPTION:                  ! VA Mix-Tape Music Fest !\nSt
 arring: N.O.R.E, ONYX, Nice & Smooth, Rah Digga, Large Professor of Ma
 in Source, Lord Finesse and more!\nDo you remember recording your favo
 rite songs from the radio and creating your own mix of music on a cass
 ette tape?  Too far back?  What about asking a friend or DJ to creat
 e a CD with a mix of your favorite songs and artist?  Well if this so
 unds familiar, you don't want to miss what's going to take place on Sa
 turday July 17th at Ntelos Pavilion in Portsmouth VA.   \nVA Mix Tap
 e Music Fest - will the first Mix-Tape Music themed event of its kind 
 right here in Hampton  Roads!!\nAlso witness some of Hampton Roads be
 st DJ's showcase their craft between sets,  while taking you on a mus
 ical journey from the 80's to the 90's- playing chart topping hits and
  demonstrating the art of \"scratching\" which is a turntable techniqu
 e.  In addition to this, a wide range of artists from different genre
 's of Hip-Hop to give you a variety of flavor under one roof. \nOn th
 e 18th of July if you are looking to have a great time, listen to loca
 l DJ’s spin between sets, & receive a lesson in Hip Hop history come
  out and be a part of the fun!  The message will be unity and keeping
  the culture alive!! \nTickets available at all Ticketmaster location
 s! \n\nhttps://youtu.be/sBDdMB2TOGM\n\n\nFor more information visit h
 ttps://vbnightlife.com/events/va-mix-tape-music-fest
DTSTART:20150718T230000Z
DTEND:20150719T030000Z
CATEGORIES:concert, late, "80's", "90's", hip, hop, artist
LOCATION:NTELOS Pavilion
WEBSITE:http://www.pavilionconcerts.com/
URL:http://www.pavilionconcerts.com/
CONTACT:800-745-3000
ORGANIZER:Denied Stone
ATTACH;FMTTYPE="image/jpeg":http://storage.ning.com/topology/rest/1.0/
 file/get/1664273336?profile=original
ATTENDEE;ROLE=REQ-PARTICIPANT;PARTSTAT=ACCEPTED;RSVP=TRUE;CN="Rolan St
 ears":https://vbnightlife.com/profile/RolanStears
ATTENDEE;ROLE=REQ-PARTICIPANT;PARTSTAT=ACCEPTED;RSVP=TRUE;CN=ds:https:
 //vbnightlife.com/profile/23bsuzxzylgra
END:VEVENT
END:VCALENDAR
