BEGIN:VCALENDAR
PRODID:NingEventWidget-v1
VERSION:2.0
METHOD:PUBLISH
BEGIN:VEVENT
UID:2508951:Event:111568
DTSTAMP:20260424T230000Z
SUMMARY:**UPDATED** Friday's Virginia Beach Entertainment Listing
DESCRIPTION:ENTERTAINMENT:\nBookings can change at the last minute, so
  we recommend checking with the venue before heading out!\n11th St. Ta
 phouse – VEDETTE 10PM *VBNIGHTLIFE NIGHT*\n15th St. Raw Bar – BRIA
  KELLY & COASTLAND BAND 10PM\n501 City Grill – CHEAP THRILLS\nAbbey 
 Road –JACKSON LEBEAU 9:30PM\nAlibi’s – REFORM SCHOOL DROPOUTS\nB
 aker Street – MONKEYBOOTY\nBar None – COMMON GROUND 9PM\nBoneshake
 rs – ROOT 66 8:30PM\nChicho’s – MOST WANTED 8PM\nChix Sea Grill 
 & Bar – SUZY & THE NATURALS 9:30PM\nDockside Marina – FRED KARAM 7
 PM\nFinn McCool’s – DANZINGO 9PM\nGeared Up Rock Bar – SCARZ WIT
 HIN + AS THE WORLD BURNS + DREADLINE\nGreen Onion – BAND\nH2O – JE
 SSE CHONG 10PM\nHK On The Bay – GRANT AUSTIN TAYLOR\nHookah Me Up 
  JACOB VANKO 10PM\nIl Giardino – BILLY BATTE 7PM\nJewish Mother Hil
 ltop – TINSLEY ELLIS 9PM\nKeagan’s – JACK BECKER 10PM\nKnucklehe
 ads – SOUL PATCH\nKokoamo’s – SRTRICTLY BIZZNESS 10PM\nLucky Oys
 ter – BRENT SHEPARD 9PM-12\nLunaSea – DJ SERJE 10PM\nPoppa’s Pub
  – BLIND TOONA\nScandals – ROCK CANDY\nShorebreak – LEWIS MCGEHE
 E 8:30PM\nSmackwater Jack’s – GANGSTERS OF LOVE\nSouth Beach Grill
  – HOTCAKES 9PM\nSwell – THE OFFICE\nWing King – NATURE’S CHIL
 D 9-11PM\n\nTHEATRE/FUNDRAISERS/CONCERTS/SPORTS:\nVIEW BASEBALL SCHEDU
 LES IN NORFOLK BY CLICKING HERE\nDoubletree Hotel – MYSTERY DINNER P
 LAYHOUSE: “GAME SHOW MURDERS” 7:30PM\n\nDJ’S/KARAOKE/DANCES:\nAw
 ful Arthur’s - *KARAOKE*\nBrass Bell - *KARAOKE* 9PM\nCatch 31 – D
 J THE DEEJAY 10PM\nThe Edge – DJ RAW BASE\nGarrison’s – HOUSE SE
 SSIONS 2011 FEAT DJ STEEVE ABITBOL 11PM\nGreen Parrot - *OPEN MIC w/ D
 HANA ROWE*\nHangar 09 – LOOSE LIPS + DROP THE LIME + LRDMRCY + OH!BO
 Y + MR. E ($15)\nManila Ave Lounge – J DASTARDLY & DJ STRYDA 9PM\nRe
 ef Lounge - *KARAOKE* 9PM\nRetro Café – DJ KID ICARUS\nShakas – M
 ARK ZIMBRO DJZ\nSmokies - *KARAOKE*\n\nSPECIAL EVENTS:\nPembroke 4 Gal
 lery – “I’M IN THE MOOD FOR COLOR” OPENING RECEPTION 7-9PM\n\n
 For more information visit https://vbnightlife.com/events/updated-frid
 ays-virginia-beach
DTSTART:20110422T040000Z
DTEND:20110423T035900Z
CATEGORIES:"virginia beach", "virginia beach events", "virginia beach 
 bands", "virginia beach entertainment"
LOCATION:Virginia Beach
WEBSITE:
URL:
CONTACT:
ORGANIZER:VBnightlife.com / VBdaylife.com
ATTACH;FMTTYPE="image/jpeg":
ATTENDEE;ROLE=REQ-PARTICIPANT;PARTSTAT=ACCEPTED;RSVP=TRUE;CN="VBnightl
 ife.com":https://vbnightlife.com/profile/admin
END:VEVENT
END:VCALENDAR
