BEGIN:VCALENDAR
PRODID:NingEventWidget-v1
VERSION:2.0
METHOD:PUBLISH
BEGIN:VEVENT
UID:2508951:Event:5475
DTSTAMP:20260426T001031Z
SUMMARY:UNC vs DUKE @ Shorebreak
DESCRIPTION:UNC vs DUKE\n\nLocation: Shorebreak\nStreet: 2941 Shore Dr
 ive\nCity/Town: Virginia Beach, VA\n\nContact Info Phone: 7574819393\n
 Email: Shorebreakvb@yahoo.com\n\nFor more information visit https://vb
 nightlife.com/events/unc-vs-duke-shorebreak
DTSTART:20090212T020000Z
DTEND:20090212T030000Z
CATEGORIES:sports
LOCATION:Shorebreak
WEBSITE:
URL:
CONTACT:
ORGANIZER:Shorebreak
ATTACH;FMTTYPE="image/jpeg":http://storage.ning.com/topology/rest/1.0/
 file/get/1664069104?profile=original
ATTENDEE;ROLE=REQ-PARTICIPANT;PARTSTAT=ACCEPTED;RSVP=TRUE;CN="Nicole M
 axino":https://vbnightlife.com/profile/NicoleMaxino
END:VEVENT
END:VCALENDAR
