BEGIN:VCALENDAR
PRODID:NingEventWidget-v1
VERSION:2.0
METHOD:PUBLISH
BEGIN:VEVENT
UID:2508951:Event:7759
DTSTAMP:20260425T203354Z
SUMMARY:UFC 96 FIGHT @ Sharx
DESCRIPTION:UFC 96 Jackson vs. Jardine\nSat 9:00 PM\n\nFormer UFC® Li
 ght Heavyweight Champion Quinton \"Rampage\" Jackson was at his devast
 ating best last December as he settled his score with Wanderlei Silva 
 via a chilling first round knockout. On Saturday, March 7, Jackson wil
 l look to move one step closer to regaining his title when he takes on
  the man who beat both Chuck Liddell and Forrest Griffin, Keith \"The 
 Dean of Mean\" Jardine. For the third year in a row, the Ultimate Figh
 ting Championship® is heading back to Columbus, Ohio for UFC 96: JACK
 SON vs. JARDINE, live from the Nationwide Arena on Saturday, March 7, 
 2009.\n\nAlso scheduled:\nMatt Hamill vs. Mark Munoz (205)\nGabriel Go
 nzaga vs. Shane Carwin (HW)\n\nTwo more main card fights remain to be 
 scheduled.\n\nFor more information visit https://vbnightlife.com/event
 s/ufc-96-fight-sharx
DTSTART:20090307T050000Z
DTEND:20090308T045900Z
CATEGORIES:sports
LOCATION:Sharx
WEBSITE:
URL:
CONTACT:
ORGANIZER:Sharx
ATTACH;FMTTYPE="image/jpeg":http://storage.ning.com/topology/rest/1.0/
 file/get/3723680278?profile=original
ATTENDEE;ROLE=REQ-PARTICIPANT;PARTSTAT=ACCEPTED;RSVP=TRUE;CN="Nicole M
 axino":https://vbnightlife.com/profile/NicoleMaxino
END:VEVENT
END:VCALENDAR
