BEGIN:VCALENDAR
PRODID:NingEventWidget-v1
VERSION:2.0
METHOD:PUBLISH
BEGIN:VEVENT
UID:2508951:Event:312911
DTSTAMP:20260424T050154Z
SUMMARY:UFC 189 MENDEZ vs MCGREGOR at FROGGIE'S CANTINA BY THE BAY •
  FULL SOUND •NO COVER
DESCRIPTION:Oh Yea! Shore DrIve does love UFC!  \n\nAll sound and act
 ion dedicated to UFC! Late Night Menu and $2 BUD DRAFT, $2.50 PBR's & 
 Tecate!\n \n\n\nNo cover \n \n \n\nFor more information visit https
 ://vbnightlife.com/events/ufc-189-mendez-vs-mcgregor-at-froggie-s-cant
 ina-by-the-bay-full-s
DTSTART:20150712T020000Z
DTEND:20150712T034500Z
CATEGORIES:"things to do in virginia beach", "where to watch the ufc"
LOCATION:FROGGIES CANTINA BY THE BAY
WEBSITE:https://www.google.com/maps/place/3656+Shore+Dr,+Virginia+Beac
 h,+VA+23455/@36.9084829,-76.099112,17z/data=!3m1!4b1!4m2!3m1!1s0x89ba9
 35a245fbb7d:0x940b69f6de613039
URL:https://www.google.com/maps/place/3656+Shore+Dr,+Virginia+Beach,+V
 A+23455/@36.9084829,-76.099112,17z/data=!3m1!4b1!4m2!3m1!1s0x89ba935a2
 45fbb7d:0x940b69f6de613039
CONTACT:(757) 216-3300
ORGANIZER:VBnightlife.com / vbdaylife
ATTACH;FMTTYPE="image/jpeg":http://storage.ning.com/topology/rest/1.0/
 file/get/1664283596?profile=original
ATTENDEE;ROLE=REQ-PARTICIPANT;PARTSTAT=ACCEPTED;RSVP=TRUE;CN="VBnightl
 ife.com":https://vbnightlife.com/profile/admin
END:VEVENT
END:VCALENDAR
