BEGIN:VCALENDAR
PRODID:NingEventWidget-v1
VERSION:2.0
METHOD:PUBLISH
BEGIN:VEVENT
UID:2508951:Event:319088
DTSTAMP:20260424T033115Z
SUMMARY:TWISTED TURKEY PARTY AT TEMPT
DESCRIPTION:Start your Thanksgiving Holiday Week on Service Industry N
 ight!Live Music with Brian Shultz 9PM$1.50 Corona Lights$4 Wild Turkey
  Bourbon$4 Jim Beam Apple$4 El Jimador Tequila$4 Rum Chata$5 Appetizer
 s\n\nFor more information visit https://vbnightlife.com/events/twisted
 -turkey-party-at-tempt
DTSTART:20151123T230000Z
DTEND:20151124T000000Z
CATEGORIES:"pre-thanksgiving party", "things to do in virginia beach"
LOCATION:TEMPT RESTAURANT AND LOUNGE
WEBSITE:
URL:
CONTACT:
ORGANIZER:VBnightlife.com / Tempt restaurant & Lounge
ATTACH;FMTTYPE="image/jpeg":http://storage.ning.com/topology/rest/1.0/
 file/get/1664292751?profile=original
ATTENDEE;ROLE=REQ-PARTICIPANT;PARTSTAT=ACCEPTED;RSVP=TRUE;CN="VBnightl
 ife.com":https://vbnightlife.com/profile/admin
END:VEVENT
END:VCALENDAR
