BEGIN:VCALENDAR
PRODID:NingEventWidget-v1
VERSION:2.0
METHOD:PUBLISH
BEGIN:VEVENT
UID:2508951:Event:8926
DTSTAMP:20260425T142740Z
SUMMARY:TUESDAY'S BAND / EVENTS LISTING
DESCRIPTION:Abbey Road - VB - OPEN STAGE /w \"KARL WERNE\nA J Gators -
  Karaoke @9pm\nCABO - ANTHONY PAUL'S MUSIC PAGE\nFresh Tapas and Toni 
 - DKR (Dave, Kate and Ross)\nKeagans - Town Center - LEMON DISH 10pm\n
 Lunasea - JESSE CHONG\nMurphy's Irish Pub - JOHN ICKES\n\nFor more inf
 ormation visit https://vbnightlife.com/events/tuesdays-band-events-lis
 ting-6
DTSTART:20090331T220000Z
DTEND:20090331T230000Z
CATEGORIES:live, music
LOCATION:Virginia Beach
WEBSITE:
URL:
CONTACT:
ORGANIZER;CN="Nicole Maxino":https://vbnightlife.com/profile/NicoleMax
 ino
ATTACH;FMTTYPE="image/jpeg":http://storage.ning.com/topology/rest/1.0/
 file/get/1664070519?profile=original
ATTENDEE;ROLE=REQ-PARTICIPANT;PARTSTAT=ACCEPTED;RSVP=TRUE;CN="Nicole M
 axino":https://vbnightlife.com/profile/NicoleMaxino
END:VEVENT
END:VCALENDAR
