BEGIN:VCALENDAR
PRODID:NingEventWidget-v1
VERSION:2.0
METHOD:PUBLISH
BEGIN:VEVENT
UID:2508951:Event:8516
DTSTAMP:20260425T160740Z
SUMMARY:TUESDAY'S BAND / EVENTS LISTING
DESCRIPTION:Abbey Road - OPEN STAGE\nCabo Cafe - ANTHONY PAUL'S MUSIC 
 PAGE\nCentral 111 - RITMO TUESDAYS - Salsa, Merengue, Reggaetron\nFres
 h Tapas and Tonic - DKR (Dave, Kate and Ross)\nHalf Shell - DAHNA ROWE
  + MIKE FEDERALI + MICHAEL HENSEN\nHartz Restaurant and Nightclub - TE
 CHNO TUESDAYS\nKeagans - Red Mill - STEVE FORSS\nKeagans - Town Center
  - LEMON DISH 10pm\nLunasea - JESSE CHONG\nMurphy's Irish Pub - VAL LI
 TTLE\nPeabody's - EURO EXPLOSION TUESDAYS - DJ\nPeppermint Beach Club-
  THE NUMBER TWELVE LOOKS LIKE YOU, OUTRAGEOUS RHINOCEROS, OUR LAST NIG
 HT, I SEE STARS, TOMORROW WHEN THE WAR BEGAN, H IS FOR HEROS\n\nFor mo
 re information visit https://vbnightlife.com/events/tuesdays-band-even
 ts-listing-5
DTSTART:20090324T040000Z
DTEND:20090325T035900Z
CATEGORIES:live, music
LOCATION:Virginia Beach
WEBSITE:
URL:
CONTACT:
ORGANIZER;CN="Nicole Maxino":https://vbnightlife.com/profile/NicoleMax
 ino
ATTACH;FMTTYPE="image/jpeg":http://storage.ning.com/topology/rest/1.0/
 file/get/1664069771?profile=original
ATTENDEE;ROLE=REQ-PARTICIPANT;PARTSTAT=ACCEPTED;RSVP=TRUE;CN="Nicole M
 axino":https://vbnightlife.com/profile/NicoleMaxino
END:VEVENT
END:VCALENDAR
