BEGIN:VCALENDAR
PRODID:NingEventWidget-v1
VERSION:2.0
METHOD:PUBLISH
BEGIN:VEVENT
UID:2508951:Event:6788
DTSTAMP:20260422T134222Z
SUMMARY:TUESDAY'S BAND / EVENTS LISTING
DESCRIPTION:Abbey Road - VB - OPEN STAGE /w \"KARL WERNE\"\nClub Relev
 ant - HOPE FOR THE DYING, WAR OF THE AGES, INHALE EXHALE, DESTROY THE 
 RUNNER\nBrass Bell Steakhouse - Independence Blvd - THE ACOUSTAHOLICS\
 nFresh Tapas - Strawbridge - DKR (Dave, Kate and Ross)\nKeagans - Town
  Center - VB 10pm\nLunasea - VB \"JESSE CHONG\"\n\nFor more informatio
 n visit https://vbnightlife.com/events/tuesdays-band-events-listing-4
DTSTART:20090303T050000Z
DTEND:20090304T045900Z
CATEGORIES:live, music
LOCATION:Virginia Beach
WEBSITE:
URL:
CONTACT:
ORGANIZER;CN="Nicole Maxino":https://vbnightlife.com/profile/NicoleMax
 ino
ATTACH;FMTTYPE="image/jpeg":http://storage.ning.com/topology/rest/1.0/
 file/get/1664100981?profile=original
ATTENDEE;ROLE=REQ-PARTICIPANT;PARTSTAT=ACCEPTED;RSVP=TRUE;CN="Nicole M
 axino":https://vbnightlife.com/profile/NicoleMaxino
END:VEVENT
END:VCALENDAR
