BEGIN:VCALENDAR
PRODID:NingEventWidget-v1
VERSION:2.0
METHOD:PUBLISH
BEGIN:VEVENT
UID:2508951:Event:6572
DTSTAMP:20260425T201840Z
SUMMARY:TUESDAY'S BAND / EVENTS LISTING
DESCRIPTION:Abbey Road - OPEN STAGE /w KARL WERNE\nAvanti - Mardi Gras
  - DJ JOE FU\nFresh Tapas and Tonic - Strawbridge - DKR (Dave, Kate an
 d Ross)\nHalf Shell - MIKE FERERALI + MIKE GOMBAS + KEITH KREWSON\nH K
  On The Bay - VB WARREN SEABURG solo (Relay For Life Benefit)\nKeagans
  - Town Center - LEMON DISH 10pm\nKnuckleheads - BUTTER\nLunasea - JES
 SE CHONG\nPeabody's - Mardi Gras Party\nSandler Center - DAVID ARCHULE
 TA\nShorebreak - FUNDRAISER FOR CHKD\nTiki Seagrille & Bar - Sandbridg
 e -\nDOAD solo 6-10pm\n\nFor more information visit https://vbnightlif
 e.com/events/tuesdays-band-events-listing-3
DTSTART:20090224T050000Z
DTEND:20090225T045900Z
CATEGORIES:live, music
LOCATION:Virginia Beach
WEBSITE:
URL:
CONTACT:
ORGANIZER;CN="Nicole Maxino":https://vbnightlife.com/profile/NicoleMax
 ino
ATTACH;FMTTYPE="image/jpeg":http://storage.ning.com/topology/rest/1.0/
 file/get/1664069376?profile=original
ATTENDEE;ROLE=REQ-PARTICIPANT;PARTSTAT=ACCEPTED;RSVP=TRUE;CN="Nicole M
 axino":https://vbnightlife.com/profile/NicoleMaxino
END:VEVENT
END:VCALENDAR
