BEGIN:VCALENDAR
PRODID:NingEventWidget-v1
VERSION:2.0
METHOD:PUBLISH
BEGIN:VEVENT
UID:2508951:Event:7810
DTSTAMP:20260425T230740Z
SUMMARY:TUESDAY BAND / EVENT LISTING
DESCRIPTION:Abbey Road - OPEN STAGE /w KARL WERNE\nFinn McCools- Karao
 ke  Fresh - DKR (DAVE, KATE, & ROSS )\nHalf Shell - MICHAEL HENSEN + C
 HALTON PHANEUF + HEATHER JEANETTE\nKeagans - Town Center - LEMONDISH 1
 0pm  Keagan’s Sports Bar- Red Mill Commons - RYAN CONROY 10PM\nLunas
 ea - JESSE CHONG\nPEABODYS - PROPAGANDHI & PAINT IT BLACK - 7:30 $15\n
 Tiki Seagrille - Sandbridge Rd - DOAD \n\nFor more information visit h
 ttps://vbnightlife.com/events/tuesday-band-event-listing
DTSTART:20080311T040000Z
DTEND:20080312T035900Z
CATEGORIES:live, music
LOCATION:Virginia Beach
WEBSITE:
URL:
CONTACT:
ORGANIZER;CN="Nicole Maxino":https://vbnightlife.com/profile/NicoleMax
 ino
ATTACH;FMTTYPE="image/jpeg":
ATTENDEE;ROLE=REQ-PARTICIPANT;PARTSTAT=ACCEPTED;RSVP=TRUE;CN="Nicole M
 axino":https://vbnightlife.com/profile/NicoleMaxino
END:VEVENT
END:VCALENDAR
