BEGIN:VCALENDAR
PRODID:NingEventWidget-v1
VERSION:2.0
METHOD:PUBLISH
BEGIN:VEVENT
UID:2508951:Event:296147
DTSTAMP:20260422T162220Z
SUMMARY:TRIVIA NIGHT AT MOCA
DESCRIPTION:Trivia Night \n   Thursday November 13 | 7-10pm | $7 MO
 CA members FREE  \nSo, you think you're smart?  Round up your team a
 nd come to MOCA for a night of pop culture trivia and a little friendl
 y competition. Key trivia questions will tie-in to MOCA's fall exhibit
 ions in unexpected and clever ways. Come early with your team and get
  the insiders scoop in the galleries. Cash Bar and refreshments. Reser
 vations encouraged. \n \nGalleries open at 7:15pm for an interactive
  tour of the exhibitions. Trivia starts at 8pm. Get your team together
  and register online TODAY!\n\nAdmission includes free nachos/snacks
  and a tour.\n\nFor more information visit https://vbnightlife.com/eve
 nts/trivia-night-at-moca
DTSTART:20141114T000000Z
DTEND:20141114T030000Z
CATEGORIES:"virginia moca", "trivia night"
LOCATION:VIRGINIA MUSEUM OF CONTEMPORARY ART
WEBSITE:
URL:
CONTACT:
ORGANIZER;CN="VBnightlife.com":https://vbnightlife.com/profile/admin
ATTACH;FMTTYPE="image/jpeg":http://storage.ning.com/topology/rest/1.0/
 file/get/1664245038?profile=original
ATTENDEE;ROLE=REQ-PARTICIPANT;PARTSTAT=ACCEPTED;RSVP=TRUE;CN="Rolan St
 ears":https://vbnightlife.com/profile/RolanStears
ATTENDEE;ROLE=REQ-PARTICIPANT;PARTSTAT=ACCEPTED;RSVP=TRUE;CN="VBnightl
 ife.com":https://vbnightlife.com/profile/admin
END:VEVENT
END:VCALENDAR
