BEGIN:VCALENDAR
PRODID:NingEventWidget-v1
VERSION:2.0
METHOD:PUBLISH
BEGIN:VEVENT
UID:2508951:Event:197994
DTSTAMP:20260423T103711Z
SUMMARY:TowneBank Holiday Parade at the Beach
DESCRIPTION:Officially ushering in the holiday season in Virginia Beac
 h, the Holiday Parade at the Beach affords local businesses, schools, 
 and organizations the opportunity to support the community and celebra
 te the season with thousands of parade-goers. Giant balloons, marching
  bands, lighted floats, equestrian units, fire trucks, performing danc
 e groups, motorcycles, and more join forces to present a dazzling and 
 entertaining night of fun for all ages!  And best of all, Santa himse
 lf makes a grand appearance to greet all his loyal fans as the evening
  winds down and many families take the opportunity to also visit the a
 mazing Holiday Lights at the Beach!  The Holiday Parade at the Beach 
 begins at 5:30pm, and travels North on Atlantic Avenue from 15th to 25
 th Street.\n\nFor more information visit https://vbnightlife.com/event
 s/townebank-holiday-parade-at-the-beach
DTSTART:20121201T050000Z
DTEND:20121202T045900Z
CATEGORIES:"virginia beach events", "virginia beach holiday events", "
 virginia beach family fun", "virginia beach parade", "virginia beach c
 hristmas parade", "beach street usa"
LOCATION:Atlantic Ave between 15th - 25th Streets
WEBSITE:http://www.beachstreetusa.com/events/HolidayParadeAtTheBeach
URL:http://www.beachstreetusa.com/events/HolidayParadeAtTheBeach
CONTACT:
ORGANIZER;CN="VBnightlife.com":https://vbnightlife.com/profile/admin
ATTACH;FMTTYPE="image/jpeg":http://storage.ning.com/topology/rest/1.0/
 file/get/1664171513?profile=original
ATTENDEE;ROLE=REQ-PARTICIPANT;PARTSTAT=ACCEPTED;RSVP=TRUE;CN="Rolan St
 ears":https://vbnightlife.com/profile/RolanStears
ATTENDEE;ROLE=REQ-PARTICIPANT;PARTSTAT=ACCEPTED;RSVP=TRUE;CN="VBnightl
 ife.com":https://vbnightlife.com/profile/admin
END:VEVENT
END:VCALENDAR
