BEGIN:VCALENDAR
PRODID:NingEventWidget-v1
VERSION:2.0
METHOD:PUBLISH
BEGIN:VEVENT
UID:2508951:Event:12595
DTSTAMP:20260425T201902Z
SUMMARY:TOWN CENTER OF VIRGINIA BEACH -- Plaza Entertainment staring J
 oe Maniscalco
DESCRIPTION:Featuring entertainer Joe Maniscalco LIVE with his cool, l
 aid-back Island/Caribbean sounds. Also music from the 60s, 70s, 80s, M
 otown, reggae, Buffett,\n\nFor more information visit https://vbnightl
 ife.com/events/town-center-of-virginia-beach
DTSTART:20090503T210000Z
DTEND:20090504T000000Z
CATEGORIES:plaza, entertainment, program
LOCATION:Town Center Plaza
WEBSITE:http://www.joemaniscalco.com
URL:http://www.joemaniscalco.com
CONTACT:757.353.0711
ORGANIZER:
ATTACH;FMTTYPE="image/jpeg":http://storage.ning.com/topology/rest/1.0/
 file/get/1664075111?profile=original
ATTENDEE;ROLE=REQ-PARTICIPANT;PARTSTAT=ACCEPTED;RSVP=TRUE;CN="Rolan St
 ears":https://vbnightlife.com/profile/RolanStears
ATTENDEE;ROLE=REQ-PARTICIPANT;PARTSTAT=ACCEPTED;RSVP=TRUE;CN="Fran Har
 ding":https://vbnightlife.com/profile/FranHarding
END:VEVENT
END:VCALENDAR
