BEGIN:VCALENDAR
PRODID:NingEventWidget-v1
VERSION:2.0
METHOD:PUBLISH
BEGIN:VEVENT
UID:2508951:Event:275378
DTSTAMP:20260424T010838Z
SUMMARY:Art, Jewelry and Local Business Expo featuring the Blue Mile B
 and - Local's Night at Cactus Jack
DESCRIPTION:COME OUT TOMORROW NIGHT AND SUPPORT LOCAL MUSIC, ART AND B
 USINESSES AT OUR VENDOR SHOW!\n\nSee Nancy Balogh's photos from our la
 st Vendor event at Cactus Jack's here: http://vbnightlife.com/photo/a
 lbums/jewelry-and-art-show-cactus-jacks-nancy-balogh\n\nSee photos fro
 m Reggae Night last week here: http://vbnightlife.com/photo/albums/re
 ggae-night-with-strange-rootz-by-nancy-balogh \n \nMusic from the Bl
 ue Mile Band 6pm-9pm.    \n Wondering where to go during the week no
 w that the Oceanfront Stages are empty? Cactus Jacks and VBnightlife a
 re hosting a Local's Night every Wednesday thru February with live mus
 ic from 6 to 9. Join us for dinner or drinks at the bar and enjoy 25% 
 off your entire bill and live music from The Blue Mile Band!\n\nFeatur
 ed VENDORS:\n\nSTELLA DOT TRUNK SHOW\n\nChris Griffin Pascuzzi's color
 ful coiled fiber bowls are the perfect blend of function and fun. Each
  piece in her collection, which now includes coasters, mats, trays, an
 d purses is a unique work of art. Commissions are always welcome.\n\nS
 ERAPH ART:  Tamara Seraph is a self taught local Virginia Beach Artis
 t. Primarily working in Oils, she continues to capture & create breath
 taking Land & Seascapes. Her use of colors and textures translates the
  energy in each piece to the viewer. Never settling on a single Style 
 or Technique Tamara’s artwork is diverse as it is unique. Her work c
 an be found in many Local Virginia Beach Art Shows, Artistic Creations
  Art Gallery in Virginia Beach, and often at benefits for local and na
 tional and charities.Also on Facebook athttp://www.facebook.com/EkahiA
 loha.OneLove\nRANDALL JORDAN: Been an artist in one form or another a
 ll my life, and getting better with age! I'm a cross-media artist, wit
 h concentrations in pastels, acrylics, jewelry-making, pottery, and cu
 stom-wrapped fishing rods. At present, I own \"Artistic Creations Art 
 Gallery at 4425 Shore Drive Va. Beach, Va., 23455, where I represent 4
 2 artists as well as myself. From the first prehistoric cave-art, man 
 has shown his desire for self-expression. As an artist, I can only hop
 e that spark is alive in everyone, though it be suppressed. Helping to
  ignite as many sparks as possible through my art, is my goal. \n \n
 \"Wednesdays Locals Night\"\n  ◙ Show your Virginia Beach or Milita
 ry I.D. and receive 25% entire guest check all day until 9pm\n  ◙ M
 eet a friend for a drink after work!\n  ◙ Hump Day Fun for everyone
 ! \n   \n \n\nFor more information visit https://vbnightlife.com/e
 vents/tonight-art-jewelry-and-local-business-expo-featuring-the-blue-m
 i
DTSTART:20140212T230000Z
DTEND:20140213T020000Z
CATEGORIES:"art and jewelry show", networking, "rnr band"
LOCATION:Cactus Jack's Southwest Grill
WEBSITE:
URL:
CONTACT:757 652 0808
ORGANIZER;CN="VBnightlife.com":https://vbnightlife.com/profile/admin
ATTACH;FMTTYPE="image/jpeg":http://storage.ning.com/topology/rest/1.0/
 file/get/1664225995?profile=original
ATTENDEE;ROLE=REQ-PARTICIPANT;PARTSTAT=ACCEPTED;RSVP=TRUE;CN="VBnightl
 ife.com":https://vbnightlife.com/profile/admin
END:VEVENT
END:VCALENDAR
