BEGIN:VCALENDAR
PRODID:NingEventWidget-v1
VERSION:2.0
METHOD:PUBLISH
BEGIN:VEVENT
UID:2508951:Event:38867
DTSTAMP:20260420T110332Z
SUMMARY:Togo Mission Music Fest and Fundraiser
DESCRIPTION:Spring Branch Community Church is sending a mission team o
 f a dozen people who are going to be digging and installing a well for
  a village in need in Togo, Africa. Come and support their efforts whi
 le we raise the funds necessary to ship a kit for the team dig with an
 d install so these villagers can have fresh water for the first time i
 n their history! Guadalajara at Town Center in Virginia Beach is the p
 lace to be on Sunday, June 27th, 2010 from 1 pm to 7 pm. Come out and 
 hear local favorites like Suzy B. Taylor (of Suzy and the Naturals) an
 d guitar virtuouso Grant Austin Tayor and the beautiful and talented A
 lexandria Hernandez amongst many others.\n\nFor more information visit
  https://vbnightlife.com/events/togo-mission-music-fest-and
DTSTART:20100627T170000Z
DTEND:20100627T230000Z
CATEGORIES:fundraiser, for, church, mission, trip
LOCATION:Guadalajara, Town Center(accross from the Westin)
WEBSITE:http://maps.google.com/maps?f=q&source=s_q&hl=en&geocode=&q=46
 11+Columbus+Street,+Virginia+Beach,+Virginia&sll=37.0625,-95.677068&ss
 pn=23.959196,33.662109&ie=UTF8&hq=&hnear=4611+Columbus+St,+Virginia+Be
 ach,+Virginia+23462&ll=36.845491,-76.137443&spn=0.01178,0.016437&t=h&z
 =15&iwloc=A
URL:http://maps.google.com/maps?f=q&source=s_q&hl=en&geocode=&q=4611+C
 olumbus+Street,+Virginia+Beach,+Virginia&sll=37.0625,-95.677068&sspn=2
 3.959196,33.662109&ie=UTF8&hq=&hnear=4611+Columbus+St,+Virginia+Beach,
 +Virginia+23462&ll=36.845491,-76.137443&spn=0.01178,0.016437&t=h&z=15&
 iwloc=A
CONTACT:
ORGANIZER:Spring Branch Community Church
ATTACH;FMTTYPE="image/jpeg":
ATTENDEE;ROLE=REQ-PARTICIPANT;PARTSTAT=ACCEPTED;RSVP=TRUE;CN="Rolan St
 ears":https://vbnightlife.com/profile/RolanStears
ATTENDEE;ROLE=REQ-PARTICIPANT;PARTSTAT=ACCEPTED;RSVP=TRUE;CN="Joseph H
 ernandez":https://vbnightlife.com/profile/JosehHernandez
END:VEVENT
END:VCALENDAR
