BEGIN:VCALENDAR
PRODID:NingEventWidget-v1
VERSION:2.0
METHOD:PUBLISH
BEGIN:VEVENT
UID:2508951:Event:65712
DTSTAMP:20260421T132619Z
SUMMARY:TODDLER TREK THURSDAYS AT THE VIRGINIA AQUARIUM!
DESCRIPTION:Toddler Treck Thursdays at 11 a.m.\n\nJoin us for Toddler 
 Trek Thursdays, an outdoor exploration session for early learners and 
 their parents. Every Thursday, take an easy 30-minute stroll along th
 e Nature Trail to discover a new animal, color, or shape through fun o
 utdoor activities.\n\nWhere: This program meets in the Marsh Pavilion 
 and will take place inside during inclement weather. Virginia Aquarium
 - 717 General Booth Blvd 23451\nWhen: 11:00 AM - 11:30 AM\nWho: Open t
 o the public\nHow: www.virginiaaquarium.com\nCost: Free with paid ad
 mission, free to members\n\n\n\nFor more information visit https://vbn
 ightlife.com/events/toddler-trek-thursdays-at-the
DTSTART:20110428T150000Z
DTEND:20110428T160000Z
CATEGORIES:family
LOCATION:Virginia Aquarium & Marine Science Center
WEBSITE:
URL:
CONTACT:
ORGANIZER:VBdaylife.com
ATTACH;FMTTYPE="image/jpeg":http://storage.ning.com/topology/rest/1.0/
 file/get/1664125058?profile=original
ATTENDEE;ROLE=REQ-PARTICIPANT;PARTSTAT=ACCEPTED;RSVP=TRUE;CN="VBnightl
 ife.com":https://vbnightlife.com/profile/admin
END:VEVENT
END:VCALENDAR
