BEGIN:VCALENDAR
PRODID:NingEventWidget-v1
VERSION:2.0
METHOD:PUBLISH
BEGIN:VEVENT
UID:2508951:Event:318376
DTSTAMP:20260424T074552Z
SUMMARY:Veterans Day Parade, Ceremony & Luncheon - Virginia Beach
DESCRIPTION:\nTHE MEANING OF VETERANS DAY: A celebration to honor Ame
 rica's veterans for their patriotism, love of country, and willingness
  to serve and sacrifice for the common good.\n\nJoin the Hampton Roads
  Council of Veterans Organizations as they pay tribute to all the men 
 and women who have served and protected our country and fought for our
  freedom. The parade starts at 9 a.m. and formal ceremony at 11 a.m. 
 \n\nThe parade route will start from the Virginia Beach Oceanfront o
 n Atlantic Avenue and 16th street and proceed up 19th Street to a revi
 ewing stand at the Tidewater Veterans Memorial (across from the Virgin
 ia Beach Convention Center).\n \n              Immediately fol
 lowing the parade a short ceremony will be held at the Tidewater Veter
 ans Memorial and a luncheon honoring our Veterans will be held at the 
 Doubletree Hotel next to the Virginia Beach Convention Center at appro
 ximately 12:00 PM.\n\n             The Veterans Day Parade
  is sanctioned by the Department of Veterans Affairs National Veterans
  Day Committee and the Mayors of Chesapeake, Norfolk, Portsmouth, Suff
 olk and Virginia Beach who sign a proclamation resolving that “citiz
 ens, businesses and organizations demonstrate due appreciation, admira
 tion and respect for all veterans who have served our great nation”.
 \n \nFOR A LIST OF RESTAURANTS,  RETAIL AND ENTERTAINMENT DEALS FOR
  THE MILITARY THIS VETERAN'S DAY PLEASE VISIT:http://www.militarybridg
 e.com/blog/2015/10/28/257/militarybridges-big-list-of-veterans-day-dis
 counts-and-freebies-2015/\n\nFor more information visit https://vbnigh
 tlife.com/events/tidewater-veterans-day-parade-ceremony-2
DTSTART:20151111T140000Z
DTEND:20151111T160000Z
CATEGORIES:"tidewater veterans day parade & ceremony", "virginia beach
 ", parade, "veterans day"
LOCATION:Virginia Beach
WEBSITE:
URL:
CONTACT:
ORGANIZER:VBnightlife.com / vbdaylife / military bridge
ATTACH;FMTTYPE="image/jpeg":http://storage.ning.com/topology/rest/1.0/
 file/get/1664289799?profile=original
ATTENDEE;ROLE=REQ-PARTICIPANT;PARTSTAT=ACCEPTED;RSVP=TRUE;CN="VBnightl
 ife.com":https://vbnightlife.com/profile/admin
END:VEVENT
END:VCALENDAR
