BEGIN:VCALENDAR
PRODID:NingEventWidget-v1
VERSION:2.0
METHOD:PUBLISH
BEGIN:VEVENT
UID:2508951:Event:297248
DTSTAMP:20260423T014411Z
SUMMARY:Tidewater Veterans Day Parade & Ceremony
DESCRIPTION: \n\nJoin the Hampton Roads Council of Veterans Organizat
 ions as they pay tribute to all the men and women who have served and 
 protected our country and fought for our freedom. The parade starts at
  9 a.m. and formal ceremony at 11 a.m. \nPlan to pay tribute to our s
 ervice men and women at the annual Tidewater Veterans Day Parade and C
 eremony. This year’s procession kicks off Tuesday, Nov. 11, beginnin
 g at 9 a.m. at 16th Street and Atlantic Avenue, and ends at the Tidewa
 ter Veterans Memorial at 19th Street, across from the Virginia Beach C
 onvention Center. The city of Virginia Beach has been hosting the Vete
 rans Day parade since 1970, and the event is sponsored by the Hampton 
 Roads Council of Veterans Organizations and co-sponsored this year by 
 the Fleet Reserve​ Association.\n \nFOR A LIST OF RESTAURANTS,  
 RETAIL AND ENTERTAINMENT DEALS FOR THE MILITARY THIS VETERAN'S DAY PLE
 ASE VISIT: http://www.militarybridge.com/blog/2014/11/1/257/militaryb
 ridges-big-list-of-veterans-day-freebies-discounts-and-events/\n\nFor 
 more information visit https://vbnightlife.com/events/tidewater-vetera
 ns-day-parade-ceremony-1
DTSTART:20141111T140000Z
DTEND:20141111T160000Z
CATEGORIES:"tidewater veterans day parade & ceremony", "virginia beach
 ", parade, "veterans day"
LOCATION:Virginia Beach
WEBSITE:
URL:
CONTACT:
ORGANIZER;CN="VBnightlife.com":https://vbnightlife.com/profile/admin
ATTACH;FMTTYPE="image/jpeg":http://storage.ning.com/topology/rest/1.0/
 file/get/1664214850?profile=original
ATTENDEE;ROLE=REQ-PARTICIPANT;PARTSTAT=ACCEPTED;RSVP=TRUE;CN="VBnightl
 ife.com":https://vbnightlife.com/profile/admin
END:VEVENT
END:VCALENDAR
