BEGIN:VCALENDAR
PRODID:NingEventWidget-v1
VERSION:2.0
METHOD:PUBLISH
BEGIN:VEVENT
UID:2508951:Event:9984
DTSTAMP:20260425T142555Z
SUMMARY:THURSDAY'S BAND / EVENT LISTING
DESCRIPTION:Abbey Road - MIKE PROFFITT\nA J Gators - General Booth - K
 ARAOKE W/ DJ EDDIE 9PM to 1AM\nAvanti - HAVANA NIGHTS - Salsa\nBaker's
  Street- DJ COUNTRY NIGHT\nClub Manila Ave - REGGAE THURSDAY'S - DJ KI
 NG WALKER\nClutch - ED KELLECHER , acoustic band\nCoyote Cafe - Kate a
 nd Dave\nCroc's - BUTTER\nEncore Lounge - DJ BABEY BROWN\nFarenheit - 
 LADIES NIGHT - Free Red Bull All Night\nFinn McCools - RYAN CONROY 9pm
 \nH2O - JESSE CHONG\nHalf Shell - MOBILE DEATH CAMP\nIce House - DAVID
  PEITTRO\nJewish Mother - THE BRIDGE + OCTOPUS\nKeagans - Town Center 
 - STEVE FORSS 10pm\nKeagans - Upton Drive- KARAOKE 9pm\nLunasea - THE 
 RETAILERS\nMurphy's Irish Pub - JOHN ICKES\nOtani - KARL WERNE & B J L
 EIDERMAN\nParlays Sports Bar - KEVIN MAC (every thursday)\nPeabody's -
  LOCALS LIVE - THE GENTLEMAN\nThirsty Camel - Ocean View - Norfolk BAD
 DADZ\n\nFor more information visit https://vbnightlife.com/events/thur
 sdays-band-event-listing-7
DTSTART:20090402T040000Z
DTEND:20090403T035900Z
CATEGORIES:bands, dj
LOCATION:Virginia Beach
WEBSITE:
URL:
CONTACT:
ORGANIZER;CN="Nicole Maxino":https://vbnightlife.com/profile/NicoleMax
 ino
ATTACH;FMTTYPE="image/jpeg":http://storage.ning.com/topology/rest/1.0/
 file/get/1664070193?profile=original
ATTENDEE;ROLE=REQ-PARTICIPANT;PARTSTAT=ACCEPTED;RSVP=TRUE;CN="Nicole M
 axino":https://vbnightlife.com/profile/NicoleMaxino
END:VEVENT
END:VCALENDAR
