BEGIN:VCALENDAR
PRODID:NingEventWidget-v1
VERSION:2.0
METHOD:PUBLISH
BEGIN:VEVENT
UID:2508951:Event:8524
DTSTAMP:20260425T160452Z
SUMMARY:THURSDAY'S BAND / EVENT LISTING
DESCRIPTION:757 - JACK BECKER\nAbbey Road - MIKE PROFFITT\nAvanti - HA
 VANA NIGHTS - Salsa\nBaker's Street - BUTTER 8:30\nClub Manila Ave - R
 EGGAE THURSDAY'S - DJ KING WALKER\nClutch - SUBURBAN KEY PARTY\nCoyote
  Cafe - DAVE AND KATE\nCrocs - RICH WHISKEY AUDITION\nEncore Lounge - 
 DJ BABEY BROWN\nFarenheit - LADIES NIGHT - Free Red Bull All Night\nFi
 nn McCools - RYAN CONROY 9pm\nG.F. Keagans- TATTLEEMARK\nH2O - JESSE C
 HONG\nHalf Shell- 110 CALORIES\nIce House Restaurant - WARREN SEABURG 
 solo\nJewish Mother - THAT 1 GUY W/Positive Mental Trip\nKeagans - Tow
 n Center - STEVE FORSS 10pm\nLunasea - LUKE TAYLOR\nMurphy's Irish Pub
  - VAL LITTLE\nOtani -ACOUSTAHOLICS\nParlays Sports Bar- KEVIN MaC\nPe
 abody's - JACKMOVE & TOQUE\nSouth Beach Grill - RIANNA PELLINO\n\nFor 
 more information visit https://vbnightlife.com/events/thursdays-band-e
 vent-listing-6
DTSTART:20090326T040000Z
DTEND:20090327T035900Z
CATEGORIES:live, music
LOCATION:Virginia Beach
WEBSITE:
URL:
CONTACT:
ORGANIZER;CN="Nicole Maxino":https://vbnightlife.com/profile/NicoleMax
 ino
ATTACH;FMTTYPE="image/jpeg":http://storage.ning.com/topology/rest/1.0/
 file/get/1664069847?profile=original
ATTENDEE;ROLE=REQ-PARTICIPANT;PARTSTAT=ACCEPTED;RSVP=TRUE;CN="Nicole M
 axino":https://vbnightlife.com/profile/NicoleMaxino
END:VEVENT
END:VCALENDAR
