BEGIN:VCALENDAR
PRODID:NingEventWidget-v1
VERSION:2.0
METHOD:PUBLISH
BEGIN:VEVENT
UID:2508951:Event:6829
DTSTAMP:20260422T103336Z
SUMMARY:THURSDAY'S BAND / EVENT LISTING
DESCRIPTION:Abbey Road - MIKE PROFFITT\nChrysler Museum of Art - GREY 
 MATTER\nCoyote Cafe - DAVE AND KATE\nCroc's - BUTTER\nH2O - JESSE CHON
 G\nIcehouse - JACK BECKER\nLunasea - THE RETAILERS\nMurphy's Irish Pub
  - JAMES WEST\nNorva - Norfolk DISCO BISCUITS\nOtani -EMPTY HANDED\nSc
 ooters - WEST AND DANIELS\nSouth Beach Grill - DKR (DAVE, KATE AND ROS
 S)\nWing King - JOE MANISCALCO\n\nFor more information visit https://v
 bnightlife.com/events/thursdays-band-event-listing-5
DTSTART:20090305T050000Z
DTEND:20090306T045900Z
CATEGORIES:live, music
LOCATION:Virginia Beach
WEBSITE:
URL:
CONTACT:
ORGANIZER;CN="Nicole Maxino":https://vbnightlife.com/profile/NicoleMax
 ino
ATTACH;FMTTYPE="image/jpeg":http://storage.ning.com/topology/rest/1.0/
 file/get/1664100987?profile=original
ATTENDEE;ROLE=REQ-PARTICIPANT;PARTSTAT=ACCEPTED;RSVP=TRUE;CN="Nicole M
 axino":https://vbnightlife.com/profile/NicoleMaxino
END:VEVENT
END:VCALENDAR
