BEGIN:VCALENDAR
PRODID:NingEventWidget-v1
VERSION:2.0
METHOD:PUBLISH
BEGIN:VEVENT
UID:2508951:Event:5816
DTSTAMP:20260425T213652Z
SUMMARY:THURSDAY'S BAND / EVENT LISTING
DESCRIPTION:Abbey Road - Va Beach \"MIKE PROFFITT\nChrysler Art Museum
  - Norfolk * WARM IT FOR ARTS SAKE SERIES * \"JESSE CHONG\" 6-9pm $$\n
 Croc's - VB \"VINYL HEADLIGHTS\nFinn McCool's - VB \"RYAN CONROY\nFly 
 n Fishbone - ROBIN KING\nG.F. Keagan's - COLORBLIND\nH2O - VB \"JESSE 
 CHONG\"\nHacienda - Surry VA \"JOE MANISCALCO\"\nCANCELLED Jewish Moth
 er - VB \"FREDDIE McGREGOR\"\nOtani - ACOUSTIHOLICS\nScandal's - NATUR
 E'S CHILD\nScoreboard - VB - UNDERCURRENT\nSouthbeach Grill - RYLO, AU
 GUSTINE & THE MUCKRAKES\n\nFor more information visit https://vbnightl
 ife.com/events/thursdays-band-event-listing-2
DTSTART:20090212T230000Z
DTEND:20090213T000000Z
CATEGORIES:live, music
LOCATION:Virginia Beach
WEBSITE:
URL:
CONTACT:
ORGANIZER;CN="Nicole Maxino":https://vbnightlife.com/profile/NicoleMax
 ino
ATTACH;FMTTYPE="image/jpeg":http://storage.ning.com/topology/rest/1.0/
 file/get/1664069045?profile=original
ATTENDEE;ROLE=REQ-PARTICIPANT;PARTSTAT=ACCEPTED;RSVP=TRUE;CN="Nicole M
 axino":https://vbnightlife.com/profile/NicoleMaxino
END:VEVENT
END:VCALENDAR
