BEGIN:VCALENDAR
PRODID:NingEventWidget-v1
VERSION:2.0
METHOD:PUBLISH
BEGIN:VEVENT
UID:2508951:Event:7966
DTSTAMP:20260425T160350Z
SUMMARY:THURSDAY BAND / EVENT LISTING
DESCRIPTION:Abbey Road -MIKE PROFFITT\nCabo Cafe - LADIES NIGHT\nClutc
 h - DAHNA ROWE\nCoyote Cafe - KATE AND DAVE\nCroc's- BORDERLINE CRAZY\
 nFinn McCools- TBA\nG.F. Keagans - DEREK SMITH & KEVIN \"MINK\" TURNER
 \nGreenies - Norfolk- HOTCAKES\nGuadalajara Town Center - LATIN AFTERW
 ORK PARTY - FREE SALSA LESSON\nH2o- JESSE CHONG\nHalf Shell- EVERLASTI
 NG LOUNGE\nHot Tuna - VICTORIA'S RYAN\nIce House - JACK BECKER\nKeagan
 s- Towne Center- STEVE FORSS\nLunasea- LIEHR JETT 10pm\nMurphy's Irish
  Pub - JOHN ICKES\nNorva - THE NEW DEAL- Future Rock\nOhana -LIL DARKM
 ARK\nOtani -DOUBLE TAKE , SIX\nParlays Sports Bar- KEVIN MaC\nPepperMi
 nt Beach Club- FOR TODAY, RECON, A PLEA FOR PURGING, & BROADCAST THE N
 IGHTMARE 6pm- Doors Open\nTiki Seagrille- KEVIN KELLEY BAND\n\nFor mor
 e information visit https://vbnightlife.com/events/thursday-band-event
 -listing-1
DTSTART:20090319T040000Z
DTEND:20090320T035900Z
CATEGORIES:live, music
LOCATION:Virginia Beach
WEBSITE:
URL:
CONTACT:
ORGANIZER;CN="Nicole Maxino":https://vbnightlife.com/profile/NicoleMax
 ino
ATTACH;FMTTYPE="image/jpeg":http://storage.ning.com/topology/rest/1.0/
 file/get/1664070114?profile=original
ATTENDEE;ROLE=REQ-PARTICIPANT;PARTSTAT=ACCEPTED;RSVP=TRUE;CN="Nicole M
 axino":https://vbnightlife.com/profile/NicoleMaxino
END:VEVENT
END:VCALENDAR
