BEGIN:VCALENDAR
PRODID:NingEventWidget-v1
VERSION:2.0
METHOD:PUBLISH
BEGIN:VEVENT
UID:2508951:Event:307696
DTSTAMP:20260422T073517Z
SUMMARY:This Weekend at Tempt Restaurant and Lounge
DESCRIPTION:\n\nFor more information visit https://vbnightlife.com/eve
 nts/this-weekend-at-tempt-restaurant-and-lounge
DTSTART:20150321T040000Z
DTEND:20150323T035900Z
CATEGORIES:"virginia beach", "virginia beach nightlife", "virginia bea
 ch bands", "virginia beach entertainment"
LOCATION:Tempt Restaurant and Lounge
WEBSITE:
URL:
CONTACT:
ORGANIZER;CN="VBnightlife.com":https://vbnightlife.com/profile/admin
ATTACH;FMTTYPE="image/jpeg":http://storage.ning.com/topology/rest/1.0/
 file/get/1664268281?profile=original
ATTENDEE;ROLE=REQ-PARTICIPANT;PARTSTAT=ACCEPTED;RSVP=TRUE;CN="VBnightl
 ife.com":https://vbnightlife.com/profile/admin
END:VEVENT
END:VCALENDAR
