BEGIN:VCALENDAR
PRODID:NingEventWidget-v1
VERSION:2.0
METHOD:PUBLISH
BEGIN:VEVENT
UID:2508951:Event:46933
DTSTAMP:20260423T125733Z
SUMMARY:THIRSTY THURSDAYS :code-name-fusion:@ BAXTER'S Downtown
DESCRIPTION:Baxters Norfolk:invites you to the HOTTEST THURSDAY NIGHT 
 PARTY IN DOWNTOWN ★EVMS ★ODU ★CNU ★VT ★VWC ★VCCS★VCU Thi
 rsty Thursdays :code name F-u-s-i-o-n / w-DJ SERGE mixing all the Hits
 ! it's 18 & up - 21 & up to drink, w-your Rockst★r Bartenders! Chris
 topher C. Hill, Jessica Capra. & Brandy Upton, & Brett Hartle keeping 
 the bar stocked! & SEXY COCKTAILERS serving the BEST $2 Liquor Drinks 
 $2 Yuengling Bottles $3 bombs all night, no cover\n\nFor more informat
 ion visit https://vbnightlife.com/events/thirsty-thursdays
DTSTART:20100903T000000Z
DTEND:20100903T060000Z
CATEGORIES:"club/bar"
LOCATION:BAXTER'S SPORTS LOUNGE
WEBSITE:
URL:
CONTACT:
ORGANIZER;CN="DJ SERGE":https://vbnightlife.com/profile/DJSERGE
ATTACH;FMTTYPE="image/jpeg":http://storage.ning.com/topology/rest/1.0/
 file/get/1664115349?profile=original
ATTENDEE;ROLE=REQ-PARTICIPANT;PARTSTAT=ACCEPTED;RSVP=TRUE;CN="DJ SERGE
 ":https://vbnightlife.com/profile/DJSERGE
END:VEVENT
END:VCALENDAR
