BEGIN:VCALENDAR
PRODID:NingEventWidget-v1
VERSION:2.0
METHOD:PUBLISH
BEGIN:VEVENT
UID:2508951:Event:9107
DTSTAMP:20260425T160046Z
SUMMARY:The Virginia Symphony Orchestra Beethoven Violin Concerto @ Th
 e Sandler Center
DESCRIPTION:The Virginia Symphony Orchestra\nBeethoven Violin Concerto
 \nDate: Friday April 3, 2009\nTime: 8:00 pm\nWebsite: www.virginiasymp
 hony.org\nTickets: $83, $66, $56, $46, $40, $23\n\n\nJoAnn Falletta, c
 onductor\nMichael Ludwig, violin\nSchumann Manfred Overture\nBeethoven
  Violin Concerto\nDvorak Romance in F minor\nDvorak Czech Suite\nThe p
 assionate musical sounds of the Romantics light up the concert hall. T
 he quick curtain-raiser opening of Schumann's Manfred overture paints 
 an emotional character sketch of Byron's tormented hero, then moves to
  Dvorak's introspective Romance and his nationalistic Czech Suite conc
 luding with the celestial expanse and poetic power of Beethoven's Viol
 in Concerto, performed by violinist Michael Ludwig in his third appear
 ance with the orchestra.\n\nFor more information visit https://vbnight
 life.com/events/the-virginia-symphony
DTSTART:20090404T000000Z
DTEND:20090404T030000Z
CATEGORIES:concert
LOCATION:Sandler Center for Performing Arts
WEBSITE:
URL:
CONTACT:
ORGANIZER:Sandler Center
ATTACH;FMTTYPE="image/jpeg":http://storage.ning.com/topology/rest/1.0/
 file/get/1664070163?profile=original
ATTENDEE;ROLE=REQ-PARTICIPANT;PARTSTAT=ACCEPTED;RSVP=TRUE;CN="Nicole M
 axino":https://vbnightlife.com/profile/NicoleMaxino
END:VEVENT
END:VCALENDAR
