BEGIN:VCALENDAR
PRODID:NingEventWidget-v1
VERSION:2.0
METHOD:PUBLISH
BEGIN:VEVENT
UID:2508951:Event:210673
DTSTAMP:20260420T023329Z
SUMMARY:THE VIRGINIA FLOWER AND GARDEN EXPO
DESCRIPTION:\n\nHome\nAbout Us\nLandscape Displays\nActivities\nSponso
 rs\nVendors / Organizations\n\n\n  \n\nVirginia Beach Convention Cent
 er\nJanuary 25-27, 2013.\n \n\n\n\n\n\n\nHorticultural Highlights\n\n
 12 landscape displays by local companies\nOver 100 garden vendors, exh
 ibitors & displayers\nSpectacular floral displays\nEuropean-style Flow
 er Market\nGarden Speakers and demonstrations\nArt show by local & reg
 ional artists\nChildren's Activities\nDaily Floral Challenge\n\nOpport
 unities to Participate\n\nFloral Challenge\nDecorated Rain Barrels\nAr
 tist Alley\n\nShow Floorplan Layout\nContact Us\nExpo Coordinator:  
 Laurie Fox Ph: 757-284-6139\nLandscape Display Coordinator: Jane McN
 icholas\nFloral Design Coordinator: Beverly Wayne\nVolunteer Coordina
 tor: Barbara Brawley  Ph: 757-481-2041\nHorticultural Vendors: Davi
 d Wike   Ph: 757-672-3531\n\n\n\n\n\n\n\n\n\n\nFor more information 
 visit https://vbnightlife.com/events/the-virginia-flower-and-garden-ex
 po
DTSTART:20130127T050000Z
DTEND:20130128T045900Z
CATEGORIES:"flower and garden", expo, "things to do in virginia beach"
LOCATION:VIRGINIA BEACH CONVENTION CENTER
WEBSITE:
URL:
CONTACT:
ORGANIZER:vbdaylife
ATTACH;FMTTYPE="image/jpeg":http://storage.ning.com/topology/rest/1.0/
 file/get/1664187362?profile=original
ATTENDEE;ROLE=REQ-PARTICIPANT;PARTSTAT=ACCEPTED;RSVP=TRUE;CN="VBnightl
 ife.com":https://vbnightlife.com/profile/admin
END:VEVENT
END:VCALENDAR
