BEGIN:VCALENDAR
PRODID:NingEventWidget-v1
VERSION:2.0
METHOD:PUBLISH
BEGIN:VEVENT
UID:2508951:Event:76152
DTSTAMP:20260423T144210Z
SUMMARY:THE VIRGINIA BEACH SPCA 2011 BACK TO THE BEACH SPRING GALA AND
  SHOW
DESCRIPTION:The  Virginia Beach SPCA2011 Back to the Beach Spring Gal
 a and ShowThe Virginia Beach SPCA will hold its 23rdAnnual Spring Gala
  and Show on Saturday, April 9, 2011, at The Cavalier Hotel and Beach 
 Club. This year’s gala, “Back to the Beach” features fantastic 
 food and drinks, music by Beach-favorite The Janitors and a show of th
 e best in beach and resort-wear.  Guests will also enjoy a top-notch
  silent auction and our traditionalCircle of CARE Live Auction.We are
  also very pleased to announce that we will be honoring Ramon W. Breed
 en Jr., chairman and founder of The Breeden Company, with our first-ev
 er Lifesaver Award.This event raises more than $75,000 to benefit our 
 adoption programs, humane education initiatives and CARE fund, which s
 ubsidizes medical care for animals at the shelter.\n \n\n\n2011 Back 
 to the Beach Spring Gala & Show Ticket Information\n\n\nThis phenonme
 nal evening is one of the Virginia Beach SPCA's largest fundraising ev
 ents.  You and your guests will enjoy music by The Janitors, fantasti
 c food and drinks, silent auction and a fashion show featuring the bes
 t in resort wear.  Of course, the evening would not be complete witho
 ut our amazing four-legged friends.  Many adoptable animals will join
  the show and help everyone have a magnificent evening!Individual tick
 ets: $100 (limited seating available and cash bar)Beach Date: $250 (
 2 event tickets and reserved table seating, name in program, 2 drink
  tickets per attendee)Surfrider Sponsor: $500 (4 event tickets and re
 served table seating, name in event program and in quarterly newslett
 er)Sand Dollar Sponsor: $1,500 (10 event tickets and one reserved tab
 le, name in event program, on VBSPCA Website and in quarterly newslet
 ter, 2 drink tickets per attendee)Tickets can be purchased online, or 
 by filling out the ticket order form and returning it to the VBSPCA.
  Purchase now >>\n\n\nFor more information visit https://vbnightlife.
 com/events/the-virginia-beach-spca-2011
DTSTART:20110409T220000Z
DTEND:20110410T020000Z
CATEGORIES:fundraiser
LOCATION:Cavalier Hotel and Beach Club
WEBSITE:
URL:
CONTACT:
ORGANIZER;CN="VBnightlife.com":https://vbnightlife.com/profile/admin
ATTACH;FMTTYPE="image/jpeg":http://storage.ning.com/topology/rest/1.0/
 file/get/1664133489?profile=original
ATTENDEE;ROLE=REQ-PARTICIPANT;PARTSTAT=ACCEPTED;RSVP=TRUE;CN="VBnightl
 ife.com":https://vbnightlife.com/profile/admin
END:VEVENT
END:VCALENDAR
