BEGIN:VCALENDAR
PRODID:NingEventWidget-v1
VERSION:2.0
METHOD:PUBLISH
BEGIN:VEVENT
UID:2508951:Event:312691
DTSTAMP:20260424T033332Z
SUMMARY:THE SUMMER'S BIGGEST DANCE PARTY - FREE THIS SATURDAY NIGHT
DESCRIPTION:The Summer’s Biggest Dance Party - Free this Saturday ni
 ght\n2nd Annual Bayamo Caribbean Dance Party\nShake up your Saturday n
 ight plans with something out of the ordinary! Join the party - Experi
 encia Bayamo - food, drinks, dancing and special live entertainment wi
 th LATIN AMERICAN BAND TUMBAO SALSERO The party starts at 8:30 outsid
 e on the docks of the Cape Charles Yacht Center overlooking the harbor
 . Come by car or by boat and dance the night away. This is a party not
  to be missed.  \nFor a bigger taste of the arts, start your evening 
 early with the experimental film screening at the the historic Palace 
 Theatre in Cape Charles at 7:00\n. \nIt’s all free and all a part o
 f the Harbor for the Arts Festival in Cape Charles.\nFor more informat
 ion on the Film Festival visit: http://vbnightlife.com/events/film-pr
 emier-for-experimental-film-virginia or www.experimentalfilmvirginia
 .com or call 757-331-2787. Sponsored by Cape Charles Yacht Center \n
 \n\n\n\n\nFor more information visit https://vbnightlife.com/events/th
 e-summer-s-biggest-dance-party-free-this-saturday-night-1
DTSTART:20150712T003000Z
DTEND:20150712T034500Z
CATEGORIES:fundraiser, dance, party
LOCATION:ON THE DOCKS AT CAPE CHARLES YACHT CENTER
WEBSITE:
URL:
CONTACT:
ORGANIZER:VBnightlife.com / VBdaylife.com / NorfolkNightlife.com
ATTACH;FMTTYPE="image/jpeg":http://storage.ning.com/topology/rest/1.0/
 file/get/1664284166?profile=original
ATTENDEE;ROLE=REQ-PARTICIPANT;PARTSTAT=ACCEPTED;RSVP=TRUE;CN="VBnightl
 ife.com":https://vbnightlife.com/profile/admin
END:VEVENT
END:VCALENDAR
