BEGIN:VCALENDAR
PRODID:NingEventWidget-v1
VERSION:2.0
METHOD:PUBLISH
BEGIN:VEVENT
UID:2508951:Event:5760
DTSTAMP:20260425T213843Z
SUMMARY:THE SEX SLAVES W/ FIXER & GUEST @ The Half Shell
DESCRIPTION:Half Shell - VB - Big Daddy Productions Presents...The Sex
  Slaves w/ Fixer & Guest\n\nFor more information visit https://vbnight
 life.com/events/the-sex-slaves-w-fixer-guest
DTSTART:20090209T020000Z
DTEND:20090209T070000Z
CATEGORIES:live, music
LOCATION:Virginia Beach
WEBSITE:
URL:
CONTACT:
ORGANIZER;CN="Nicole Maxino":https://vbnightlife.com/profile/NicoleMax
 ino
ATTACH;FMTTYPE="image/jpeg":http://storage.ning.com/topology/rest/1.0/
 file/get/1664068983?profile=original
ATTENDEE;ROLE=REQ-PARTICIPANT;PARTSTAT=ACCEPTED;RSVP=TRUE;CN="Nicole M
 axino":https://vbnightlife.com/profile/NicoleMaxino
END:VEVENT
END:VCALENDAR
