BEGIN:VCALENDAR
PRODID:NingEventWidget-v1
VERSION:2.0
METHOD:PUBLISH
BEGIN:VEVENT
UID:2508951:Event:5525
DTSTAMP:20260425T225704Z
SUMMARY:THE RIGHT ON BAND and THE DELOREANS @ The Norva
DESCRIPTION:\n\nFor more information visit https://vbnightlife.com/eve
 nts/the-right-on-band-and-the
DTSTART:20090215T003000Z
DTEND:20090215T013000Z
CATEGORIES:live, music
LOCATION:The Norva
WEBSITE:
URL:
CONTACT:757 622 5915
ORGANIZER:The Norva
ATTACH;FMTTYPE="image/jpeg":http://storage.ning.com/topology/rest/1.0/
 file/get/1664068749?profile=original
ATTENDEE;ROLE=REQ-PARTICIPANT;PARTSTAT=ACCEPTED;RSVP=TRUE;CN="Nicole M
 axino":https://vbnightlife.com/profile/NicoleMaxino
END:VEVENT
END:VCALENDAR
