BEGIN:VCALENDAR
PRODID:NingEventWidget-v1
VERSION:2.0
METHOD:PUBLISH
BEGIN:VEVENT
UID:2508951:Event:10558
DTSTAMP:20260425T142455Z
SUMMARY:THE RETAILERS @ Central 111
DESCRIPTION:Rockstar Tuesdays @ Central 111\n\nThe Retailers\nDJ Joe F
 u\nDJ Smith (on drums)\n\nFor more information visit https://vbnightli
 fe.com/events/the-retailers-central-111
DTSTART:20090408T010000Z
DTEND:20090408T060000Z
CATEGORIES:live, music
LOCATION:Central 111
WEBSITE:http://www.centraloneeleven.com
URL:http://www.centraloneeleven.com
CONTACT:757.222.1022
ORGANIZER;CN=Rob:https://vbnightlife.com/profile/RobOliver
ATTACH;FMTTYPE="image/jpeg":http://storage.ning.com/topology/rest/1.0/
 file/get/1664070800?profile=original
ATTENDEE;ROLE=REQ-PARTICIPANT;PARTSTAT=ACCEPTED;RSVP=TRUE;CN=Rob:https
 ://vbnightlife.com/profile/RobOliver
END:VEVENT
END:VCALENDAR
