BEGIN:VCALENDAR
PRODID:NingEventWidget-v1
VERSION:2.0
METHOD:PUBLISH
BEGIN:VEVENT
UID:2508951:Event:47506
DTSTAMP:20260420T013834Z
SUMMARY:THE RED STAPLER BAND
DESCRIPTION:PARTY RED STAPLER STYLE !\n\nFor more information visit ht
 tps://vbnightlife.com/events/the-red-stapler-band
DTSTART:20101017T000000Z
DTEND:20101017T040000Z
CATEGORIES:band, "nite!!"
LOCATION:MONA LISA PIZZA OCEAN VIEW
WEBSITE:http://WWW.MONALISASPIZZAOV.COM
URL:http://WWW.MONALISASPIZZAOV.COM
CONTACT:757-362-0200
ORGANIZER;CN="lorrie whorton":https://vbnightlife.com/profile/lorriewh
 orton171
ATTACH;FMTTYPE="image/jpeg":http://storage.ning.com/topology/rest/1.0/
 file/get/1664118048?profile=original
ATTENDEE;ROLE=REQ-PARTICIPANT;PARTSTAT=ACCEPTED;RSVP=TRUE;CN="lorrie w
 horton":https://vbnightlife.com/profile/lorriewhorton171
END:VEVENT
END:VCALENDAR
